BEGIN:VCALENDAR
PRODID:NingEventWidget-v1
VERSION:2.0
METHOD:PUBLISH
BEGIN:VTIMEZONE
TZID:America/Boise
X-LIC-LOCATION:America/Boise
BEGIN:DAYLIGHT
TZOFFSETFROM:-0700
TZOFFSETTO:-0600
TZNAME:MDT
DTSTART:19700308T020000
RRULE:FREQ=YEARLY;BYMONTH=3;BYDAY=2SU
END:DAYLIGHT
BEGIN:STANDARD
TZOFFSETFROM:-0600
TZOFFSETTO:-0700
TZNAME:MST
DTSTART:19701101T020000
RRULE:FREQ=YEARLY;BYMONTH=11;BYDAY=1SU
END:STANDARD
END:VTIMEZONE
BEGIN:VEVENT
UID:2985220:Event:1019569
DTSTAMP:20260420T073334Z
SUMMARY:Metabolic Structures Workshop @ZUVE
DESCRIPTION:DiseÃ±o Computacional ModelaciÃ³n, anÃ¡lisis y optimizaciÃ
 ³n paramÃ©trica de bÃ¡sico a intermedio.\n2014 | sÃ¡bados 24 y31 de ma
 yo. 15 Hrs.\nHorario: SÃ¡bado de 9:00 a 18:00 Hrs. Instructor_ Arch. D
 avid HernÃ¡ndez Melgarejo.\nhttp://bioarchitecturestudio.com\nCostos:\
 nALUMNOS, EXATEC y PROFESORES TEC. $2000.00 Pesos.\nESTUDIANTES EXTERN
 OS: $3000.00 Pesos.\nESTUDIANTES DE POSGRADO Y PROFESORES: $3500.00\nP
 ROFESIONALES: $4000.00 Pesos\nObjetivos:\nEl curso estÃ¡ dirigido a ca
 da diseÃ±ador, artista, ingeniero, arquitecto y mÃ©dico que quiere obt
 ener una sÃ³lida base en modelado generativo y paramÃ©trico dentro del
  flujo de trabajo en Rhinoceros.\nEn el curso se explorarÃ¡n y constru
 irÃ¡n estructuras en el espacio paramÃ©trico, incorporando entidades g
 eomÃ©tricas (Curvas, Superficies, Puntos, etcâ€¦) y usando patrones al
 gorÃ­tmicos para la generaciÃ³n de estructuras con metabolismos contex
 tualizados.\nCada paso serÃ¡ soportado con ejercicios que gradualmente
  incrementarÃ¡n su complejidad.\nEl alumno aprenderÃ¡ cÃ³mo trabajar c
 on asociaciÃ³n geomÃ©trica y parÃ¡metros. Para perfeccionar asociaciÃ³
 n geomÃ©trica â€“ asociaciÃ³n entre partes, asociaciÃ³n dinÃ¡mica â€“ 
 las formas geomÃ©tricas son generadas al seguir la conexiÃ³n lÃ³gica e
 ntre la parte geomÃ©trica y sus restricciones, dimensiÃ³n paramÃ©trica
  y Ã©l proceso dinÃ¡mico del diseÃ±o: Estimulamos el pensamiento relac
 ional para la construcciÃ³n de DiseÃ±o y Arquitectura de alto desempeÃ
 ±o.\nMayor informaciÃ³n\nArch. David HernÃ¡ndez Melgarejo.\nE-mail: co
 ntact@bioarchitecturestudio.com\nTel. (55) 5361 8785 (55) 5361 6459\n\
 nFor more information visit https://www.grasshopper3d.com/events/metab
 olic-structures-workshop
DTSTART;TZID=America/Boise:20140524T080000
DTEND;TZID=America/Boise:20140531T180000
CATEGORIES:grasshopper, workshop
LOCATION:Zuve Consultores S.C.
WEBSITE:http://www.zuveconsultores.com.mx/contacto.html
URL:http://www.zuveconsultores.com.mx/contacto.html
CONTACT:(55) 5361 8785 (55) 5361 6459
ORGANIZER:Arch. David HernÃ¡ndez Melgarejo.
ATTACH;FMTTYPE="image/jpeg":http://storage.ning.com/topology/rest/1.0/
 file/get/2828553366?profile=original
ATTENDEE;ROLE=REQ-PARTICIPANT;PARTSTAT=ACCEPTED;RSVP=TRUE;CN="David He
 rnÃ¡ndez":https://www.grasshopper3d.com/profile/Biofafitos
END:VEVENT
END:VCALENDAR
