BEGIN:VCALENDAR
PRODID:NingEventWidget-v1
VERSION:2.0
METHOD:PUBLISH
BEGIN:VTIMEZONE
TZID:America/Boise
X-LIC-LOCATION:America/Boise
BEGIN:DAYLIGHT
TZOFFSETFROM:-0700
TZOFFSETTO:-0600
TZNAME:MDT
DTSTART:19700308T020000
RRULE:FREQ=YEARLY;BYMONTH=3;BYDAY=2SU
END:DAYLIGHT
BEGIN:STANDARD
TZOFFSETFROM:-0600
TZOFFSETTO:-0700
TZNAME:MST
DTSTART:19701101T020000
RRULE:FREQ=YEARLY;BYMONTH=11;BYDAY=1SU
END:STANDARD
END:VTIMEZONE
BEGIN:VEVENT
UID:2985220:Event:75937
DTSTAMP:20260420T225355Z
SUMMARY:Material Resonance Workshop
DESCRIPTION:Hosted by Washington University in St. Louis Sam Fox Schoo
 l of Art and Design\nSponsored By McNeel Rhinoceros\n\nMaterial Resona
 nce will be a four day, intensive workshop focused on practical applic
 ation of Rhinoscripting or Grasshopper. The workshop will also train p
 articipants in CNC fabrication using MasterCAM and the Washington Univ
 ersity DIL fabrication lab. There will also be demos of the new plug-i
 ns Firefly and Kangaroo.\n\nThe workshop is meant for professionals or
  students with a working knowledge in Rhinoceros. Prior experience wit
 h Grasshopper or Rhino VB scripting is not necessary. The workshop wil
 l start from first principles and cover topics from tessellation, comp
 onents and connections to part organization, nesting and labeling.\n\n
 Instructors\nMarc Fornes _ theverymany Rhino VB scripting\nAndy Payne 
 _ LIFT Architects Grasshopper\nKenneth Tracy _ Associated Fabrication 
 MasterCAM\n\nFor more information and to register go to:\nhttp://samfo
 xschool.wustl.edu/events/workshops/3630\n\nFor more information visit 
 https://www.grasshopper3d.com/events/material-resonance-workshop-1
DTSTART;TZID=America/Boise:20100809T090000
DTEND;TZID=America/Boise:20100812T170000
CATEGORIES:rhinoscript, grasshopper, and, fabrication, workshop
LOCATION:Sam Fox School Campus
WEBSITE:http://samfoxschool.wustl.edu/events/workshops/3630
URL:http://samfoxschool.wustl.edu/events/workshops/3630
CONTACT:
ORGANIZER:Ken Tracy
ATTACH;FMTTYPE="image/jpeg":http://storage.ning.com/topology/rest/1.0/
 file/get/2827714628?profile=original
ATTENDEE;ROLE=REQ-PARTICIPANT;PARTSTAT=ACCEPTED;RSVP=TRUE;CN="Andy Pay
 ne":https://www.grasshopper3d.com/profile/AndyPayne
END:VEVENT
END:VCALENDAR
