BEGIN:VCALENDAR
PRODID:NingEventWidget-v1
VERSION:2.0
METHOD:PUBLISH
BEGIN:VTIMEZONE
TZID:America/Boise
X-LIC-LOCATION:America/Boise
BEGIN:DAYLIGHT
TZOFFSETFROM:-0700
TZOFFSETTO:-0600
TZNAME:MDT
DTSTART:19700308T020000
RRULE:FREQ=YEARLY;BYMONTH=3;BYDAY=2SU
END:DAYLIGHT
BEGIN:STANDARD
TZOFFSETFROM:-0600
TZOFFSETTO:-0700
TZNAME:MST
DTSTART:19701101T020000
RRULE:FREQ=YEARLY;BYMONTH=11;BYDAY=1SU
END:STANDARD
END:VTIMEZONE
BEGIN:VEVENT
UID:2985220:Event:2042519
DTSTAMP:20260423T211538Z
SUMMARY:MASTER IN COMPUTATIONAL ARCHITECTURE AND PARAMETRIC DESIGN OPT
 IMIZATION
DESCRIPTION:March IN COMPUTATIONAL ARCHITECTURE AND PARAMETRIC DESIGN
  OPTIMIZATION program in Rome hosted by Sapienza University of Rome\nf
 or more details and registration, go on this link  \nhttp://arch-alg
 orithm.com/Master-2020/\n\n\n05 October 2021 - 04 October 2022   at F
 aculty of Engineering - Sapienza University of Rome Registration dead
 line is 26th of May 2020\n\nNumber of students: 20 – 30 students 
 Official language: English Credit hours:   60 CR. Duration: One ye
 ar of 1180 total hours; 600 for courses and laboratories + 480 for int
 ernship + 100 for Final project Place: 9 months in Sapienza Universit
 y of Rome - Faculty of Engineering and 3 months Internship outside the
  university\n\n\n\n\n\n\nFor more information visit https://www.grassh
 opper3d.com/events/master-in-computational-architecture-and-parametric
 -design
DTSTART;TZID=America/Boise:20211004T090000
DTEND;TZID=America/Boise:20221003T180000
CATEGORIES:master, program, march
LOCATION:Rome; Faculty of Engineering - Sapeinza University of Rome de
 partment of Civil, Building, and Environmental Engineering
WEBSITE:http://arch-algorithm.com/Master-2020/
URL:http://arch-algorithm.com/Master-2020/
CONTACT:
ORGANIZER:ALgorithm &amp; faculty of Engineering at Sapienza Universit
 y of Rome
ATTACH;FMTTYPE="image/jpeg":https://storage.ning.com/topology/rest/1.0
 /file/get/3851717306?profile=original
ATTENDEE;ROLE=REQ-PARTICIPANT;PARTSTAT=ACCEPTED;RSVP=TRUE;CN="Sam B":h
 ttps://www.grasshopper3d.com/profile/SamB
ATTENDEE;ROLE=REQ-PARTICIPANT;PARTSTAT=ACCEPTED;RSVP=TRUE;CN="Mostafa 
 R. A. Khalifa":https://www.grasshopper3d.com/profile/MostafaKhalifa
ATTENDEE;ROLE=REQ-PARTICIPANT;PARTSTAT=ACCEPTED;RSVP=TRUE;CN=BlakeGrif
 fin:https://www.grasshopper3d.com/profile/BlakeGriffin
ATTENDEE;ROLE=REQ-PARTICIPANT;PARTSTAT=TENTATIVE;RSVP=TRUE;CN="Ching S
 u":https://www.grasshopper3d.com/profile/sujingyao
ATTENDEE;ROLE=REQ-PARTICIPANT;PARTSTAT=TENTATIVE;RSVP=TRUE;CN=Jing:htt
 ps://www.grasshopper3d.com/profile/Jing
ATTENDEE;ROLE=REQ-PARTICIPANT;PARTSTAT=TENTATIVE;RSVP=TRUE;CN=AKASH:ht
 tps://www.grasshopper3d.com/profile/AKASH
ATTENDEE;ROLE=REQ-PARTICIPANT;PARTSTAT=TENTATIVE;RSVP=TRUE;CN="PREM SW
 ARUP":https://www.grasshopper3d.com/profile/PREMSWARUP
END:VEVENT
END:VCALENDAR
