BEGIN:VCALENDAR
PRODID:NingEventWidget-v1
VERSION:2.0
METHOD:PUBLISH
BEGIN:VTIMEZONE
TZID:America/Boise
X-LIC-LOCATION:America/Boise
BEGIN:DAYLIGHT
TZOFFSETFROM:-0700
TZOFFSETTO:-0600
TZNAME:MDT
DTSTART:19700308T020000
RRULE:FREQ=YEARLY;BYMONTH=3;BYDAY=2SU
END:DAYLIGHT
BEGIN:STANDARD
TZOFFSETFROM:-0600
TZOFFSETTO:-0700
TZNAME:MST
DTSTART:19701101T020000
RRULE:FREQ=YEARLY;BYMONTH=11;BYDAY=1SU
END:STANDARD
END:VTIMEZONE
BEGIN:VEVENT
UID:2985220:Event:1643703
DTSTAMP:20260419T150500Z
SUMMARY:Master class | Grasshopper for Designers
DESCRIPTION:Introduction to computational design and modeling | Key co
 ncepts | Defining local parameters, conditions and their interaction |
  Form finding design strategies | Architectural Skins - Paneling Tools
  | Introduction to Digital Fabrication methods (Duration : 30 Hours)\n
 \nTo Register: info@intodesignresearch.com\n\nFor more information vis
 it https://www.grasshopper3d.com/events/master-class-grasshopper-for-d
 esigners
DTSTART;TZID=America/Boise:20161129T100000
DTEND;TZID=America/Boise:20161202T170000
CATEGORIES:4, day, workshop
LOCATION:INTO* Design| Research
WEBSITE:https://www.facebook.com/events/639119149593890/
URL:https://www.facebook.com/events/639119149593890/
CONTACT:
ORGANIZER;CN=kavitha:https://www.grasshopper3d.com/profile/kavitha
ATTACH;FMTTYPE="image/jpeg":http://storage.ning.com/topology/rest/1.0/
 file/get/2829570473?profile=original
ATTENDEE;ROLE=REQ-PARTICIPANT;PARTSTAT=ACCEPTED;RSVP=TRUE;CN=kavitha:h
 ttps://www.grasshopper3d.com/profile/kavitha
END:VEVENT
END:VCALENDAR
