BEGIN:VCALENDAR
PRODID:NingEventWidget-v1
VERSION:2.0
METHOD:PUBLISH
BEGIN:VTIMEZONE
TZID:America/Boise
X-LIC-LOCATION:America/Boise
BEGIN:DAYLIGHT
TZOFFSETFROM:-0700
TZOFFSETTO:-0600
TZNAME:MDT
DTSTART:19700308T020000
RRULE:FREQ=YEARLY;BYMONTH=3;BYDAY=2SU
END:DAYLIGHT
BEGIN:STANDARD
TZOFFSETFROM:-0600
TZOFFSETTO:-0700
TZNAME:MST
DTSTART:19701101T020000
RRULE:FREQ=YEARLY;BYMONTH=11;BYDAY=1SU
END:STANDARD
END:VTIMEZONE
BEGIN:VEVENT
UID:2985220:Event:1013257
DTSTAMP:20260422T202806Z
SUMMARY:Madrid - Basic and Advanced Grasshopper Courses
DESCRIPTION:PRECIO: 65 euros!! Fecha límite de inscripción: 28 de en
 ero\nLos cursos se impartirán desde el L3 de marzo al V23 de mayo, en
  jornadas de 3 horas y una duración total de 30 horas (10 semanas).\n
  \nIdioma: Castellano\nHorarios\nBásico - miércoles\n18.30 - 21.30 
 h\n \nAvanzado - miércoles\n15.00 - 18.00 h\n \nUna vez finalizado 
 el curso, el alumno podrá solicitar un diploma acreditativo del mismo
 .\n \nNormativa: http://daetsam.aq.upm.es/servicios/cursos/informaci
 on\nInformación cursos: http://daetsam.aq.upm.es/servicios/cursos/pr
 imavera2014\nMétodos de pago: http://daetsam.aq.upm.es/noticias/2014
 /02/16/cursos-primavera-2014-aplicaciones-informaticas-e-idiomas\n \n
 \nFor more information visit https://www.grasshopper3d.com/events/madr
 id-basic-and-advanced-grasshopper-courses
DTSTART;TZID=America/Boise:20140303T090000
DTEND;TZID=America/Boise:20140423T000000
CATEGORIES:training, course, grasshopper
LOCATION:Madrid - Escuela Técnica Superior de Arquitectura
WEBSITE:http://daetsam.aq.upm.es/noticias/2014/02/16/cursos-primavera-
 2014-aplicaciones-informaticas-e-idiomas
URL:http://daetsam.aq.upm.es/noticias/2014/02/16/cursos-primavera-2014
 -aplicaciones-informaticas-e-idiomas
CONTACT:91 336 6505
ORGANIZER:Daetsam - Delegación de alumnos ETSAM
ATTACH;FMTTYPE="image/jpeg":http://storage.ning.com/topology/rest/1.0/
 file/get/2828480445?profile=original
ATTENDEE;ROLE=REQ-PARTICIPANT;PARTSTAT=ACCEPTED;RSVP=TRUE;CN="José Ma
 nuel Parrilla López-Brea":https://www.grasshopper3d.com/profile/JoseM
 anuelParrilla
ATTENDEE;ROLE=REQ-PARTICIPANT;PARTSTAT=ACCEPTED;RSVP=TRUE;CN="Leonardo
  Baron":https://www.grasshopper3d.com/profile/LeonardoBaron
END:VEVENT
END:VCALENDAR
