BEGIN:VCALENDAR
PRODID:NingEventWidget-v1
VERSION:2.0
METHOD:PUBLISH
BEGIN:VTIMEZONE
TZID:America/Boise
X-LIC-LOCATION:America/Boise
BEGIN:DAYLIGHT
TZOFFSETFROM:-0700
TZOFFSETTO:-0600
TZNAME:MDT
DTSTART:19700308T020000
RRULE:FREQ=YEARLY;BYMONTH=3;BYDAY=2SU
END:DAYLIGHT
BEGIN:STANDARD
TZOFFSETFROM:-0600
TZOFFSETTO:-0700
TZNAME:MST
DTSTART:19701101T020000
RRULE:FREQ=YEARLY;BYMONTH=11;BYDAY=1SU
END:STANDARD
END:VTIMEZONE
BEGIN:VEVENT
UID:2985220:Event:172284
DTSTAMP:20260420T010310Z
SUMMARY:Lunch-time Lecture: Firefly Experiments
DESCRIPTION:﻿\nJason Kelly Johnson from Firefly Experiments and Futu
 re Cities Lab in San Francisco will discuss and demonstrate Firefly an
 d show recent projects produced by his lab. Firefly is a new set of co
 mprehensive software tools dedicated to bridging the gap between Grass
 hopper (a free plug-in for Rhino), the Arduino micro-controller, the i
 nternet and beyond. It allows near real-time data flow between the 3D 
 digital and physical worlds, and will read/write data to/from internet
  feeds, remote sensors, connect with machine vision protocols, and mor
 e.\n\n\nJason Kelly Johnson is the co-developer of Firefly and is a fo
 unding partner of Future Cities Lab in San Francisco. He is also an As
 sistant Professor of Architecture and Interaction at CCA and core tuto
 r of the Architectural Association (AA) Biodynamic Structures summer p
 rogram held each year in San Francisco.\n\nFor more information visit 
 https://www.grasshopper3d.com/events/lunchtime-lecture-firefly
DTSTART;TZID=America/Boise:20110311T123000
DTEND;TZID=America/Boise:20110311T133000
CATEGORIES:lecture
LOCATION:University of Washington
WEBSITE:http://goo.gl/maps/juzg
URL:http://goo.gl/maps/juzg
CONTACT:
ORGANIZER:Jason Kelly Johnson
ATTACH;FMTTYPE="image/jpeg":http://storage.ning.com/topology/rest/1.0/
 file/get/2827690002?profile=original
ATTENDEE;ROLE=REQ-PARTICIPANT;PARTSTAT=ACCEPTED;RSVP=TRUE;CN="Bob McNe
 el":https://www.grasshopper3d.com/profile/BobMcNeel
END:VEVENT
END:VCALENDAR
