BEGIN:VCALENDAR
PRODID:NingEventWidget-v1
VERSION:2.0
METHOD:PUBLISH
BEGIN:VTIMEZONE
TZID:America/Boise
X-LIC-LOCATION:America/Boise
BEGIN:DAYLIGHT
TZOFFSETFROM:-0700
TZOFFSETTO:-0600
TZNAME:MDT
DTSTART:19700308T020000
RRULE:FREQ=YEARLY;BYMONTH=3;BYDAY=2SU
END:DAYLIGHT
BEGIN:STANDARD
TZOFFSETFROM:-0600
TZOFFSETTO:-0700
TZNAME:MST
DTSTART:19701101T020000
RRULE:FREQ=YEARLY;BYMONTH=11;BYDAY=1SU
END:STANDARD
END:VTIMEZONE
BEGIN:VEVENT
UID:2985220:Event:1167842
DTSTAMP:20260422T010905Z
SUMMARY:Lecture on Parametric Fonts
DESCRIPTION:Inspiration for the application of algorithms is reaching 
 into the field of graphic design. Metaflop is an easy to use open sour
 ce web application for modulating your own fonts.\n\n\nhttp://www.caad
 .arch.ethz.ch/blog/parametric_fonts/\n\nFor more information visit htt
 ps://www.grasshopper3d.com/events/lecture-on-parametric-fonts
DTSTART;TZID=America/Boise:20141202T170000
DTEND;TZID=America/Boise:20141202T190000
CATEGORIES:lecture
LOCATION:Zurich
WEBSITE:http://www.caad.arch.ethz.ch/blog/parametric_fonts/
URL:http://www.caad.arch.ethz.ch/blog/parametric_fonts/
CONTACT:
ORGANIZER:Dimitry Demin
ATTACH;FMTTYPE="image/jpeg":http://storage.ning.com/topology/rest/1.0/
 file/get/2828735190?profile=original
ATTENDEE;ROLE=REQ-PARTICIPANT;PARTSTAT=ACCEPTED;RSVP=TRUE;CN="Dimitry 
 A. Demin":https://www.grasshopper3d.com/profile/2d
END:VEVENT
END:VCALENDAR
