BEGIN:VCALENDAR
PRODID:NingEventWidget-v1
VERSION:2.0
METHOD:PUBLISH
BEGIN:VTIMEZONE
TZID:America/Boise
X-LIC-LOCATION:America/Boise
BEGIN:DAYLIGHT
TZOFFSETFROM:-0700
TZOFFSETTO:-0600
TZNAME:MDT
DTSTART:19700308T020000
RRULE:FREQ=YEARLY;BYMONTH=3;BYDAY=2SU
END:DAYLIGHT
BEGIN:STANDARD
TZOFFSETFROM:-0600
TZOFFSETTO:-0700
TZNAME:MST
DTSTART:19701101T020000
RRULE:FREQ=YEARLY;BYMONTH=11;BYDAY=1SU
END:STANDARD
END:VTIMEZONE
BEGIN:VEVENT
UID:2985220:Event:67363
DTSTAMP:20260421T024542Z
SUMMARY:LAN Live Grasshopper Workshop
DESCRIPTION:LaN / LIVE ARCHITECTURE NETWORK workshop\nhosted by Univer
 sity of Oregon - Portland Architecture Program - Summer in the City\n-
 --\n3 day seminar focusing on Associative Design through Grasshopper f
 or students & professionals. Learn basic functionality of Grasshopper'
 s vast interface that enables designers to generate and control comple
 x forms.The workshop will look at ways to construct logics which take 
 advantage of diverse data sources, algorithms, geometry, and manufactu
 ring processes.\nInstruction conducted at beginner / intermediate leve
 l. Requires Rhino 4 modeling, no knowledge of programming or scripting
 .\nInstructed by LaN Monika Wittig & CarloMaria Ciampoli.\n\nFor more 
 information visit https://www.grasshopper3d.com/events/lan-live-grassh
 opper-workshop
DTSTART;TZID=America/Boise:20100812T210000
DTEND;TZID=America/Boise:20100814T170000
CATEGORIES:workshop
LOCATION:University of Oregon - Portland, White Stag Block
WEBSITE:http://architecture.uoregon.edu/downloads/courses/arch4_507che
 ng.pdf
URL:http://architecture.uoregon.edu/downloads/courses/arch4_507cheng.p
 df
CONTACT:503-412-3718
ORGANIZER;CN="Nancy Yen-wen Cheng":https://www.grasshopper3d.com/profi
 le/NancyYenwenCheng
ATTACH;FMTTYPE="image/jpeg":
ATTENDEE;ROLE=REQ-PARTICIPANT;PARTSTAT=ACCEPTED;RSVP=TRUE;CN="Nancy Ye
 n-wen Cheng":https://www.grasshopper3d.com/profile/NancyYenwenCheng
END:VEVENT
END:VCALENDAR
