BEGIN:VCALENDAR
PRODID:NingEventWidget-v1
VERSION:2.0
METHOD:PUBLISH
BEGIN:VTIMEZONE
TZID:America/Boise
X-LIC-LOCATION:America/Boise
BEGIN:DAYLIGHT
TZOFFSETFROM:-0700
TZOFFSETTO:-0600
TZNAME:MDT
DTSTART:19700308T020000
RRULE:FREQ=YEARLY;BYMONTH=3;BYDAY=2SU
END:DAYLIGHT
BEGIN:STANDARD
TZOFFSETFROM:-0600
TZOFFSETTO:-0700
TZNAME:MST
DTSTART:19701101T020000
RRULE:FREQ=YEARLY;BYMONTH=11;BYDAY=1SU
END:STANDARD
END:VTIMEZONE
BEGIN:VEVENT
UID:2985220:Event:492310
DTSTAMP:20260419T103121Z
SUMMARY:LAN-FLIGHT EUROPE January 9-16/17 2012 // innsbruck // stuttga
 rt // barcelona
DESCRIPTION:LAN-FLIGHT EUROPE January 9-16/17 2012 // innsbruck // stu
 ttgart // barcelona   LaN FLIGHT//traveling seminar / tour of digital
  fabrication practices & programs // This en-route experience draws a 
 diverse group of design participants from afar for a full schedule of 
 exchanges with leading practitioners, practices, fabrication labs… a
 ll while exposed to European transit infrastructure... trains planes &
  even a few mountain roads.  LaN FLIGHT EUROPE marks LaN's fifth initi
 ative on-the-fly & our first in EUROPE.  JOIN us for the full trip or
  the leg that suits your interests. LaN is looking to attract a geogra
 phically diverse group of students & professionals with various design
  backgrounds. LaN FLIGHT 2012 EU is co-piloted  by LaN  Monika Witt
 ig & Co-de-iT Andrea Graziano.  LaN FLIGHT is looking for highly ambi
 tious-adaptable-endurance oriented participants to fully embrace the n
 ature of this curated experience. Please take a look at our 3 previous
  editions to best judge if this type of experience suits you.  If you
  are willing to allot 8 days of your life to this pursuit and have no 
 allergies to extreme mobility & group dynamics… welcome to LaN FLIGH
 T.\n\nFor more information visit https://www.grasshopper3d.com/events/
 lan-flight-europe-january-9-16-17-2012-innsbruck-stuttgart
DTSTART;TZID=America/Boise:20120109T000000
DTEND;TZID=America/Boise:20120116T235900
CATEGORIES:workshop, travel, seminar
LOCATION:many
WEBSITE:http://www.livearchitecture.net/flight
URL:http://www.livearchitecture.net/flight
CONTACT:
ORGANIZER:Monika Wittig & Andrea Graziano
ATTACH;FMTTYPE="image/jpeg":http://storage.ning.com/topology/rest/1.0/
 file/get/2827892315?profile=original
ATTENDEE;ROLE=REQ-PARTICIPANT;PARTSTAT=ACCEPTED;RSVP=TRUE;CN="Dipl.-In
 g. Alexander Haider":https://www.grasshopper3d.com/profile/Alexander_H
 aider
ATTENDEE;ROLE=REQ-PARTICIPANT;PARTSTAT=ACCEPTED;RSVP=TRUE;CN="Andrea G
 raziano":https://www.grasshopper3d.com/profile/AndreaGraziano
END:VEVENT
END:VCALENDAR
