BEGIN:VCALENDAR
PRODID:NingEventWidget-v1
VERSION:2.0
METHOD:PUBLISH
BEGIN:VTIMEZONE
TZID:America/Boise
X-LIC-LOCATION:America/Boise
BEGIN:DAYLIGHT
TZOFFSETFROM:-0700
TZOFFSETTO:-0600
TZNAME:MDT
DTSTART:19700308T020000
RRULE:FREQ=YEARLY;BYMONTH=3;BYDAY=2SU
END:DAYLIGHT
BEGIN:STANDARD
TZOFFSETFROM:-0600
TZOFFSETTO:-0700
TZNAME:MST
DTSTART:19701101T020000
RRULE:FREQ=YEARLY;BYMONTH=11;BYDAY=1SU
END:STANDARD
END:VTIMEZONE
BEGIN:VEVENT
UID:2985220:Event:619076
DTSTAMP:20260424T160628Z
SUMMARY:kangaroo,  grasshopper  کارگاههای آموزشی
DESCRIPTION:با سلام به استحضار می رساند دومب
 ن کارگاه آموزشیkangaroo grasshopperبا هدف ارتقا
 ی دانش و مهارتهای علمی و فنی 31 تیر ماه 13
 91 از ساعت 10 صبح الی 18 برگزار می گردد. از 
 علاقه مندان برای شرکت دراین کارگاه دعو
 ت می شود email: behrange@gmail.com از طریق و یا شما
 ه تماس 09197804306 جهت ثبت نام تماس حاصل نما
 یندجهت شرکت در کلاسهای فوق مبلغ 700000 ری
 ل به شماره حساب0215461257000 بانک ملی ایران 
 اریزنمودهو فیش واریزی را به همراه کپی 
 کارت ملی تحویل دهیدمحل برگزاری : تهران 
 خیابان پاسداران خیابان بهستان سوم پلا
 9\n\nFor more information visit https://www.grasshopper3d.com/events/
 kangaroo-grasshopper
DTSTART;TZID=America/Boise:20120720T100000
DTEND;TZID=America/Boise:20120720T180000
CATEGORIES:workshop
LOCATION:kangaroo grasshopper workshop
WEBSITE:http://bestudio.webs.com
URL:http://bestudio.webs.com
CONTACT:09197804306
ORGANIZER;CN="Dr Behrang Eghbali":https://www.grasshopper3d.com/profil
 e/behrangeghbali
ATTACH;FMTTYPE="image/jpeg":http://storage.ning.com/topology/rest/1.0/
 file/get/2828033210?profile=original
ATTENDEE;ROLE=REQ-PARTICIPANT;PARTSTAT=ACCEPTED;RSVP=TRUE;CN="Dr Behra
 ng Eghbali":https://www.grasshopper3d.com/profile/behrangeghbali
END:VEVENT
END:VCALENDAR
