BEGIN:VCALENDAR
PRODID:NingEventWidget-v1
VERSION:2.0
METHOD:PUBLISH
BEGIN:VTIMEZONE
TZID:America/Boise
X-LIC-LOCATION:America/Boise
BEGIN:DAYLIGHT
TZOFFSETFROM:-0700
TZOFFSETTO:-0600
TZNAME:MDT
DTSTART:19700308T020000
RRULE:FREQ=YEARLY;BYMONTH=3;BYDAY=2SU
END:DAYLIGHT
BEGIN:STANDARD
TZOFFSETFROM:-0600
TZOFFSETTO:-0700
TZNAME:MST
DTSTART:19701101T020000
RRULE:FREQ=YEARLY;BYMONTH=11;BYDAY=1SU
END:STANDARD
END:VTIMEZONE
BEGIN:VEVENT
UID:2985220:Event:1007890
DTSTAMP:20260422T190033Z
SUMMARY:Jornada de inmersión en Rhino y Grasshopper
DESCRIPTION:Durante esta jornada, se introducirá a los asistentes en 
 el programa de diseño de formas libres que más en auge tiene en el 
 mundo de la arquitectura a nivel mundial: Rhinoceros. Además, se har
 á una introducción a su plugin de modelado paramétrico, Grasshopper
 .\n \n \nCon este tipo de herramientas podemos pensar formas más al
 lá de las cajas para diseñar, porque seremos capaces controlar con 
 total rigor geometrías muy complejas.\n \n \nEn el siguiente video,
  podemos ver un ejemplo realizado durante un curso impartido anterior
 mente en Madrid por el profesor, Francisco Tabanera, en el que se real
 iza una interpretación del proyecto de BIG para la Biblioteca Nacio
 nal de Kazajstán.\n \n \n<a title=\"Interpretaci&#xF3;n de la Bibli
 oteca Naiconal de Kazakstan, de BIG\" href=\"http://www.youtube.com/wa
 tch?v=YLldO-SxgPw\" target=\"_blank\"></a>\n\n \n \nA lo largo del c
 urso se realizarán diferentes ejemplos que podrán ser realizados por
  todos los asistentes, ya que no es necesario ningún conocimiento pr
 evio para su seguimiento.\n \nEl curso se desarrollará en las oficin
 as de Arquitecton en Barcelona con el siguiente horario:\n \n\nHORARI
 O\n\n\nSábado 1 de Marzo\n\nDe 9.30 a 13.30h.\n\n\nSábado 1 de Marzo
 \n\nDe 15.30 a 19.30h.\n\n\n\n\n \nEl curso está planteado para un m
 áximo de 9 alumnos, para conseguir el máximo aprovechamiento posible
  por parte de los mismos.\nEl curso tiene un precio de 90€. Estudian
 tes y desempleados tienen un descuento del 10%. Es posible asegurarte 
 una plaza con un primer pago de 25€ a modo de reserva.\nApúntate aq
 uí\n\nFor more information visit https://www.grasshopper3d.com/events
 /jornada-de-inmersi-n-en-rhino-y-grasshopper
DTSTART;TZID=America/Boise:20140301T093000
DTEND;TZID=America/Boise:20140301T193000
CATEGORIES:curso
LOCATION:Arquitecton
WEBSITE:http://www.arquitecton.es
URL:http://www.arquitecton.es
CONTACT:610222940
ORGANIZER;CN="Frantxo Tabanera Asensio":https://www.grasshopper3d.com/
 profile/FrantxoTabaneraAsensio
ATTACH;FMTTYPE="image/jpeg":
ATTENDEE;ROLE=REQ-PARTICIPANT;PARTSTAT=ACCEPTED;RSVP=TRUE;CN="Frantxo 
 Tabanera Asensio":https://www.grasshopper3d.com/profile/FrantxoTabaner
 aAsensio
END:VEVENT
END:VCALENDAR
