BEGIN:VCALENDAR
PRODID:NingEventWidget-v1
VERSION:2.0
METHOD:PUBLISH
BEGIN:VTIMEZONE
TZID:America/Boise
X-LIC-LOCATION:America/Boise
BEGIN:DAYLIGHT
TZOFFSETFROM:-0700
TZOFFSETTO:-0600
TZNAME:MDT
DTSTART:19700308T020000
RRULE:FREQ=YEARLY;BYMONTH=3;BYDAY=2SU
END:DAYLIGHT
BEGIN:STANDARD
TZOFFSETFROM:-0600
TZOFFSETTO:-0700
TZNAME:MST
DTSTART:19701101T020000
RRULE:FREQ=YEARLY;BYMONTH=11;BYDAY=1SU
END:STANDARD
END:VTIMEZONE
BEGIN:VEVENT
UID:2985220:Event:1769982
DTSTAMP:20260423T104257Z
SUMMARY:Join Indexlab Continuing Education Workshop 10-15 July 2017
DESCRIPTION:The workshop Digital Design and Production in Architectur
 e, organized by INDEXLAB – Politecnico di Milano, has the objectiv
 e to offer a new vision on architecture and its manufacturing methodol
 ogies.\n\nhttp://www.indexlab.it/workshop2017/\n\nFor more information
  visit https://www.grasshopper3d.com/events/join-indexlab-continuing-e
 ducation-workshop-10-15-july-2017
DTSTART;TZID=America/Boise:20170710T000000
DTEND;TZID=America/Boise:20170715T235900
CATEGORIES:"digital design", production, workshop
LOCATION:Italy - Politecnico di Milano
WEBSITE:http://www.indexlab.it/workshop2017/
URL:http://www.indexlab.it/workshop2017/
CONTACT:
ORGANIZER:Indexlab
ATTACH;FMTTYPE="image/jpeg":http://storage.ning.com/topology/rest/1.0/
 file/get/2709064112?profile=original
ATTENDEE;ROLE=REQ-PARTICIPANT;PARTSTAT=ACCEPTED;RSVP=TRUE;CN="Carlo Be
 ltracchi":https://www.grasshopper3d.com/profile/Carlo_Beltracchi
ATTENDEE;ROLE=REQ-PARTICIPANT;PARTSTAT=TENTATIVE;RSVP=TRUE;CN="Stella 
 Morgan":https://www.grasshopper3d.com/profile/StellaMorgan
ATTENDEE;ROLE=REQ-PARTICIPANT;PARTSTAT=TENTATIVE;RSVP=TRUE;CN="Anna Ja
 mes":https://www.grasshopper3d.com/profile/AnnaJames
END:VEVENT
END:VCALENDAR
