BEGIN:VCALENDAR
PRODID:NingEventWidget-v1
VERSION:2.0
METHOD:PUBLISH
BEGIN:VTIMEZONE
TZID:America/Boise
X-LIC-LOCATION:America/Boise
BEGIN:DAYLIGHT
TZOFFSETFROM:-0700
TZOFFSETTO:-0600
TZNAME:MDT
DTSTART:19700308T020000
RRULE:FREQ=YEARLY;BYMONTH=3;BYDAY=2SU
END:DAYLIGHT
BEGIN:STANDARD
TZOFFSETFROM:-0600
TZOFFSETTO:-0700
TZNAME:MST
DTSTART:19701101T020000
RRULE:FREQ=YEARLY;BYMONTH=11;BYDAY=1SU
END:STANDARD
END:VTIMEZONE
BEGIN:VEVENT
UID:2985220:Event:49545
DTSTAMP:20260424T182224Z
SUMMARY:Introduction to RhinoScript  - Delivered by David Rutten
DESCRIPTION:Two Day Workshop organised by Simply Rhino & delivered in 
 London by David Rutten of McNeel.\n\nThis intense two day workshop pro
 vides participants an opportunity to learn general concepts and techni
 cal strategies involved in scripting within Rhino. Students will be pr
 esented with various strategies for utilizing coding within a design e
 nvironment.\n\nCourse outline, Location map etc. on Simply Rhino websi
 te:\n\nhttp://www.simplyrhino.co.uk/rhinotraining/rhinotraining.html\n
 \nFor more information visit https://www.grasshopper3d.com/events/intr
 oduction-to-rhinoscript
DTSTART;TZID=America/Boise:20100513T000000
DTEND;TZID=America/Boise:20100514T235900
CATEGORIES:training
LOCATION:London, UK
WEBSITE:http://www.simplyrhino.co.uk/rhinotraining/directions.html
URL:http://www.simplyrhino.co.uk/rhinotraining/directions.html
CONTACT:0208 498 9900
ORGANIZER;CN="Paul Cowell":https://www.grasshopper3d.com/profile/PaulC
 owell
ATTACH;FMTTYPE="image/jpeg":
ATTENDEE;ROLE=REQ-PARTICIPANT;PARTSTAT=ACCEPTED;RSVP=TRUE;CN="Walter Z
 esk":https://www.grasshopper3d.com/profile/WalterZesk
ATTENDEE;ROLE=REQ-PARTICIPANT;PARTSTAT=ACCEPTED;RSVP=TRUE;CN="Paul Cow
 ell":https://www.grasshopper3d.com/profile/PaulCowell
END:VEVENT
END:VCALENDAR
