BEGIN:VCALENDAR
PRODID:NingEventWidget-v1
VERSION:2.0
METHOD:PUBLISH
BEGIN:VTIMEZONE
TZID:America/Boise
X-LIC-LOCATION:America/Boise
BEGIN:DAYLIGHT
TZOFFSETFROM:-0700
TZOFFSETTO:-0600
TZNAME:MDT
DTSTART:19700308T020000
RRULE:FREQ=YEARLY;BYMONTH=3;BYDAY=2SU
END:DAYLIGHT
BEGIN:STANDARD
TZOFFSETFROM:-0600
TZOFFSETTO:-0700
TZNAME:MST
DTSTART:19701101T020000
RRULE:FREQ=YEARLY;BYMONTH=11;BYDAY=1SU
END:STANDARD
END:VTIMEZONE
BEGIN:VEVENT
UID:2985220:Event:740834
DTSTAMP:20260422T041334Z
SUMMARY:Introduction to Physics-Based Design with Kangaroo - Webinar
DESCRIPTION:Introduction to Physics-Based Design with Kangaroo | 2013 
 January 11 | 2:00 PM EST [-5 UTC]\nhttp://modelab.nu/?p=7715\nOverview
 :Applying physical properties and forces to geometry offers a fun and 
 interactive way to implement physics-based constraints into your param
 etric workflows. Through a series of short presentations and “live
  exercises, learn essential techniques for setting up and developin
 g Simulations with Kangaroo in Grasshopper, ranging from particle syst
 ems to spring networks.\nThis webinar will last 2.5 hours including mu
 ltiple open Q & A sessions. With two instructors offering guided curri
 culum and continuous support it is our goal to provide you with an in-
 depth and personal learning experience. A video of the webinar as well
  as instructor files will be uploaded after the broadcast – all part
 icipants will have unlimited access to the webinar content and this vi
 deo online. Registration can be found below. We look forward to your p
 articipation!\nTopics:\n\nWhat is Physics-Based Simulation and when is
  it useful?\nWhat types of Simulations can I develop with Kangaroo?\nW
 hat are Force-Objects and what is Physical Geometry?\nHow can I calibr
 ate and control my Simulation?\n\n\nFor more information visit https:/
 /www.grasshopper3d.com/events/introduction-to-physics-based-design-wit
 h-kangaroo-webinar
DTSTART;TZID=America/Boise:20130111T140000
DTEND;TZID=America/Boise:20130111T170000
CATEGORIES:webinar, training
LOCATION:Online
WEBSITE:http://modelab.nu/?p=7715
URL:http://modelab.nu/?p=7715
CONTACT:3477880570
ORGANIZER:modeLab
ATTACH;FMTTYPE="image/jpeg":http://storage.ning.com/topology/rest/1.0/
 file/get/2828154833?profile=original
ATTENDEE;ROLE=REQ-PARTICIPANT;PARTSTAT=ACCEPTED;RSVP=TRUE;CN="GIL AKOS
 ":https://www.grasshopper3d.com/profile/GILAKOS
ATTENDEE;ROLE=REQ-PARTICIPANT;PARTSTAT=TENTATIVE;RSVP=TRUE;CN="Fred Be
 cquelin":https://www.grasshopper3d.com/profile/FBecquelin
END:VEVENT
END:VCALENDAR
