BEGIN:VCALENDAR
PRODID:NingEventWidget-v1
VERSION:2.0
METHOD:PUBLISH
BEGIN:VTIMEZONE
TZID:America/Boise
X-LIC-LOCATION:America/Boise
BEGIN:DAYLIGHT
TZOFFSETFROM:-0700
TZOFFSETTO:-0600
TZNAME:MDT
DTSTART:19700308T020000
RRULE:FREQ=YEARLY;BYMONTH=3;BYDAY=2SU
END:DAYLIGHT
BEGIN:STANDARD
TZOFFSETFROM:-0600
TZOFFSETTO:-0700
TZNAME:MST
DTSTART:19701101T020000
RRULE:FREQ=YEARLY;BYMONTH=11;BYDAY=1SU
END:STANDARD
END:VTIMEZONE
BEGIN:VEVENT
UID:2985220:Event:1282511
DTSTAMP:20260424T010017Z
SUMMARY:Introduction to Parametric Design [IPD]
DESCRIPTION:Workshop Aim:\nThe objective of this workshop is to introd
 uce participants to the Fundamental Concepts and Essential Skills nece
 ssary for effectively designing with Grasshopper for Rhinoceros. In 5 
 days, the participants will focus on the key advantages of Grasshopper
 ’s capabilities through a range of design challenges in order to aid
  designers in both their drafting tasks and modelling capabilities.\nT
 he workshop covers many concepts such as Object Attributes/Parameters,
  Data Types, Data Structures, and Designing with Algorithms. Specifica
 lly, this course will focus on understanding both Lists and Data Trees
 , as well as the best practices for integrating Grasshopper into your 
 Professional Design Workflow. The workshop offers guided curriculum an
 d continuous support, based on in-depth and professional learning expe
 riences.\n\nFor more information visit https://www.grasshopper3d.com/e
 vents/introduction-to-parametric-design-ipd-1
DTSTART;TZID=America/Boise:20150515T000000
DTEND;TZID=America/Boise:20150612T235900
CATEGORIES:parametric, modeling, workshop, for, professionals
LOCATION:Arkan Architects - Cairo
WEBSITE:https://grasshopperpolimi.wordpress.com/2015/05/07/introductio
 n-to-parametric-design-ipd-parametric-modeling-workshop-for-profession
 als/
URL:https://grasshopperpolimi.wordpress.com/2015/05/07/introduction-to
 -parametric-design-ipd-parametric-modeling-workshop-for-professionals/
CONTACT:00201001036090
ORGANIZER;CN="ayman wagdy":https://www.grasshopper3d.com/profile/ayman
 wagdy
ATTACH;FMTTYPE="image/jpeg":http://storage.ning.com/topology/rest/1.0/
 file/get/2828933470?profile=original
ATTENDEE;ROLE=REQ-PARTICIPANT;PARTSTAT=ACCEPTED;RSVP=TRUE;CN="ayman wa
 gdy":https://www.grasshopper3d.com/profile/aymanwagdy
END:VEVENT
END:VCALENDAR
