BEGIN:VCALENDAR
PRODID:NingEventWidget-v1
VERSION:2.0
METHOD:PUBLISH
BEGIN:VTIMEZONE
TZID:America/Boise
X-LIC-LOCATION:America/Boise
BEGIN:DAYLIGHT
TZOFFSETFROM:-0700
TZOFFSETTO:-0600
TZNAME:MDT
DTSTART:19700308T020000
RRULE:FREQ=YEARLY;BYMONTH=3;BYDAY=2SU
END:DAYLIGHT
BEGIN:STANDARD
TZOFFSETFROM:-0600
TZOFFSETTO:-0700
TZNAME:MST
DTSTART:19701101T020000
RRULE:FREQ=YEARLY;BYMONTH=11;BYDAY=1SU
END:STANDARD
END:VTIMEZONE
BEGIN:VEVENT
UID:2985220:Event:905569
DTSTAMP:20260420T035318Z
SUMMARY:Introduction to Parametric Design for Architects
DESCRIPTION:This workshop will introduce participants to the ins and o
 uts of parametric design for architectural production.\nAbout this Wor
 kshop:\nThis workshop will focus on the underlying concepts and mechan
 isms for creating performance-based parametric systems. The objective 
 of this workshop is to provide participants with both the conceptual a
 nd technical framework through which to better understand the relevant
  application of Parametric Design to the various design problems they 
 will encounter in professional practice. Digital content will be deliv
 ered through the parametric modeling plug-in Grasshopper for Rhino 3D 
 with additional supporting plug-ins and add-ons as required. The tools
  and technology introduced throughout the workshop will serve as a str
 ong foundation to build on and implement in professional practice.\nAb
 out the Instructor:\n Ronnie Parsons is an architect and expert in the
  field of generative design. As the co-founder of Mode Lab, a knowled
 ge platform for creative professionals, he combines his expertise in d
 esign, technology, and education to help foster innovation across a dy
 namic, ever-evolving design community.\n\nFor more information visit h
 ttps://www.grasshopper3d.com/events/introduction-to-parametric-design-
 for-architects
DTSTART;TZID=America/Boise:20130928T100000
DTEND;TZID=America/Boise:20130929T180000
CATEGORIES:workshop, training
LOCATION:Mode Lab
WEBSITE:http://lab.modecollective.nu/lab/introduction-to-parametric-de
 sign-for-architects/
URL:http://lab.modecollective.nu/lab/introduction-to-parametric-design
 -for-architects/
CONTACT:3477880570
ORGANIZER;CN="GIL AKOS":https://www.grasshopper3d.com/profile/GILAKOS
ATTACH;FMTTYPE="image/jpeg":http://storage.ning.com/topology/rest/1.0/
 file/get/2828348056?profile=original
ATTENDEE;ROLE=REQ-PARTICIPANT;PARTSTAT=ACCEPTED;RSVP=TRUE;CN="GIL AKOS
 ":https://www.grasshopper3d.com/profile/GILAKOS
END:VEVENT
END:VCALENDAR
