BEGIN:VCALENDAR
PRODID:NingEventWidget-v1
VERSION:2.0
METHOD:PUBLISH
BEGIN:VTIMEZONE
TZID:America/Boise
X-LIC-LOCATION:America/Boise
BEGIN:DAYLIGHT
TZOFFSETFROM:-0700
TZOFFSETTO:-0600
TZNAME:MDT
DTSTART:19700308T020000
RRULE:FREQ=YEARLY;BYMONTH=3;BYDAY=2SU
END:DAYLIGHT
BEGIN:STANDARD
TZOFFSETFROM:-0600
TZOFFSETTO:-0700
TZNAME:MST
DTSTART:19701101T020000
RRULE:FREQ=YEARLY;BYMONTH=11;BYDAY=1SU
END:STANDARD
END:VTIMEZONE
BEGIN:VEVENT
UID:2985220:Event:49543
DTSTAMP:20260424T182223Z
SUMMARY:Introduction to Grasshopper - Delivered by David Rutten
DESCRIPTION:One Day Workshop organised by Simply Rhino & delivered in 
 London by David Rutten of McNeel.\n\nThis workshop is geared towards d
 esigners who have a working understanding of NURBS based\nmodelling te
 chniques within Rhino, and would like to extend their modelling knowle
 dge using\ngenerative algorithms. Course outline / location details on
  Simply Rhino website:\n\nhttp://www.simplyrhino.co.uk/rhinotraining/r
 hinotraining.html\n\nFor more information visit https://www.grasshoppe
 r3d.com/events/introduction-to-grasshopper
DTSTART;TZID=America/Boise:20100504T093000
DTEND;TZID=America/Boise:20100504T173000
CATEGORIES:training
LOCATION:London, UK
WEBSITE:http://www.simplyrhino.co.uk/rhinotraining/directions.html
URL:http://www.simplyrhino.co.uk/rhinotraining/directions.html
CONTACT:0208 498 9900
ORGANIZER;CN="Paul Cowell":https://www.grasshopper3d.com/profile/PaulC
 owell
ATTACH;FMTTYPE="image/jpeg":
ATTENDEE;ROLE=REQ-PARTICIPANT;PARTSTAT=ACCEPTED;RSVP=TRUE;CN="Peter kl
 uck":https://www.grasshopper3d.com/profile/Peterkluck
ATTENDEE;ROLE=REQ-PARTICIPANT;PARTSTAT=ACCEPTED;RSVP=TRUE;CN=rhina:htt
 ps://www.grasshopper3d.com/profile/rhina
ATTENDEE;ROLE=REQ-PARTICIPANT;PARTSTAT=ACCEPTED;RSVP=TRUE;CN="Paul Cow
 ell":https://www.grasshopper3d.com/profile/PaulCowell
ATTENDEE;ROLE=REQ-PARTICIPANT;PARTSTAT=TENTATIVE;RSVP=TRUE;CN="peta bu
 sh":https://www.grasshopper3d.com/profile/petabush
END:VEVENT
END:VCALENDAR
