BEGIN:VCALENDAR
PRODID:NingEventWidget-v1
VERSION:2.0
METHOD:PUBLISH
BEGIN:VTIMEZONE
TZID:America/Boise
X-LIC-LOCATION:America/Boise
BEGIN:DAYLIGHT
TZOFFSETFROM:-0700
TZOFFSETTO:-0600
TZNAME:MDT
DTSTART:19700308T020000
RRULE:FREQ=YEARLY;BYMONTH=3;BYDAY=2SU
END:DAYLIGHT
BEGIN:STANDARD
TZOFFSETFROM:-0600
TZOFFSETTO:-0700
TZNAME:MST
DTSTART:19701101T020000
RRULE:FREQ=YEARLY;BYMONTH=11;BYDAY=1SU
END:STANDARD
END:VTIMEZONE
BEGIN:VEVENT
UID:2985220:Event:1049088
DTSTAMP:20260423T080238Z
SUMMARY:Introduction to Grasshopper // May 10-11 // Los Angeles
DESCRIPTION:\nSomewhereSomething is offering a 2-day introduction to
  Grasshopper workshop that will focus on an overview of the plug-in, 
 geometry types, geometry construction and transformation, list and dat
 a tree management. Through lectures and hands on exercises, the partic
 ipants will be able to compose various geometry constructs that demons
 trates variation and transformation through their embedded adaptive lo
 gic.\nPlease refer to this link for further information about the Gras
 shopper Series and registration specifics. \n\n\nFor more information
  visit https://www.grasshopper3d.com/events/introduction-to-grasshoppe
 r-may-10-11-los-angeles
DTSTART;TZID=America/Boise:20140510T120000
DTEND;TZID=America/Boise:20140511T180000
CATEGORIES:workshop, "los angeles"
LOCATION:2558 N. San Fernando Rd, StudioA8
WEBSITE:http://somewheresomething.com/introduction-to-grasshopper-may-
 2014/
URL:http://somewheresomething.com/introduction-to-grasshopper-may-2014
 /
CONTACT:323.382.8939
ORGANIZER;CN="Somewhere Something":https://www.grasshopper3d.com/profi
 le/SomewhereSomething
ATTACH;FMTTYPE="image/jpeg":http://storage.ning.com/topology/rest/1.0/
 file/get/2828533109?profile=original
ATTENDEE;ROLE=REQ-PARTICIPANT;PARTSTAT=ACCEPTED;RSVP=TRUE;CN="Somewher
 e Something":https://www.grasshopper3d.com/profile/SomewhereSomething
END:VEVENT
END:VCALENDAR
