BEGIN:VCALENDAR
PRODID:NingEventWidget-v1
VERSION:2.0
METHOD:PUBLISH
BEGIN:VTIMEZONE
TZID:America/Boise
X-LIC-LOCATION:America/Boise
BEGIN:DAYLIGHT
TZOFFSETFROM:-0700
TZOFFSETTO:-0600
TZNAME:MDT
DTSTART:19700308T020000
RRULE:FREQ=YEARLY;BYMONTH=3;BYDAY=2SU
END:DAYLIGHT
BEGIN:STANDARD
TZOFFSETFROM:-0600
TZOFFSETTO:-0700
TZNAME:MST
DTSTART:19701101T020000
RRULE:FREQ=YEARLY;BYMONTH=11;BYDAY=1SU
END:STANDARD
END:VTIMEZONE
BEGIN:VEVENT
UID:2985220:Event:472272
DTSTAMP:20260423T142717Z
SUMMARY:Intro to Grasshopper online training
DESCRIPTION:This training course is for design professionals who are 
 looking to efficiently learn concepts and features of Grasshopper at 
 an accelerated pace in an instructor-led online environment.\nCost: US
 $150 - Seats are limited; sign up early.\nFor details and registratio
 n, please click here.\n\nFor more information visit https://www.grassh
 opper3d.com/events/intro-to-grasshopper-online-training
DTSTART;TZID=America/Boise:20111201T090000
DTEND;TZID=America/Boise:20111207T130000
CATEGORIES:online, training
LOCATION:Online - Pacific Standard Time
WEBSITE:https://student.gototraining.com/r/6017417469978047232
URL:https://student.gototraining.com/r/6017417469978047232
CONTACT:(206) 634-4571
ORGANIZER;CN="Jody Mills":https://www.grasshopper3d.com/profile/JodyMi
 lls
ATTACH;FMTTYPE="image/jpeg":
ATTENDEE;ROLE=REQ-PARTICIPANT;PARTSTAT=ACCEPTED;RSVP=TRUE;CN="Ole Andr
 eas Bjelland":https://www.grasshopper3d.com/profile/OleAndreasBjelland
ATTENDEE;ROLE=REQ-PARTICIPANT;PARTSTAT=ACCEPTED;RSVP=TRUE;CN="Thorsten
  Lang":https://www.grasshopper3d.com/profile/ThorstenLang
ATTENDEE;ROLE=REQ-PARTICIPANT;PARTSTAT=ACCEPTED;RSVP=TRUE;CN="peter co
 ulter":https://www.grasshopper3d.com/profile/petercoulter
ATTENDEE;ROLE=REQ-PARTICIPANT;PARTSTAT=ACCEPTED;RSVP=TRUE;CN="Maroon C
 . Tabbal":https://www.grasshopper3d.com/profile/MaroonCTabbal
ATTENDEE;ROLE=REQ-PARTICIPANT;PARTSTAT=ACCEPTED;RSVP=TRUE;CN="Jody Mil
 ls":https://www.grasshopper3d.com/profile/JodyMills
ATTENDEE;ROLE=REQ-PARTICIPANT;PARTSTAT=TENTATIVE;RSVP=TRUE;CN="Mark Pa
 ul Jordan":https://www.grasshopper3d.com/profile/MarkPaulJordan
END:VEVENT
END:VCALENDAR
