BEGIN:VCALENDAR
PRODID:NingEventWidget-v1
VERSION:2.0
METHOD:PUBLISH
BEGIN:VTIMEZONE
TZID:America/Boise
X-LIC-LOCATION:America/Boise
BEGIN:DAYLIGHT
TZOFFSETFROM:-0700
TZOFFSETTO:-0600
TZNAME:MDT
DTSTART:19700308T020000
RRULE:FREQ=YEARLY;BYMONTH=3;BYDAY=2SU
END:DAYLIGHT
BEGIN:STANDARD
TZOFFSETFROM:-0600
TZOFFSETTO:-0700
TZNAME:MST
DTSTART:19701101T020000
RRULE:FREQ=YEARLY;BYMONTH=11;BYDAY=1SU
END:STANDARD
END:VTIMEZONE
BEGIN:VEVENT
UID:2985220:Event:1069481
DTSTAMP:20260423T193814Z
SUMMARY:Intro to Grasshopper Online (Mornings)
DESCRIPTION:Intro to Grasshopper Online - McNeel Online\n7/28/2014 - 
 7/31/2014 Orientation: 9:00am-10:30am Classes: 9:00am-12:30pm (PDT)\nS
 eattle, Washington US$195\nCourse Description:This course is for desig
 n professionals who are looking to efficiently learn concepts and feat
 ures of Grasshopper at an accelerated pace in an instructor-led online
  environment. Instructor Andres Gonzalez will get you started with gen
 erative modeling in Rhino 5 using the Grasshopper add-on. The advantag
 es of using Grasshopper in preliminary design and concept development 
 come to life in numerous real-life examples. An outline of the class m
 aterial is available here. The class will be conducted in English usin
 g the GoToTraining software. You will need Rhino 5.0 for Windows or th
 e Rhino 5.0 for Windows Eval installed. You will also need the latest 
 build of Grasshopper. Using the Rhino for OSX WIP is not acceptable fo
 r this class. Click on Details below to review the class outline. Deta
 ils:  The class will be conducted in English using the GoToTraining s
 oftware.  You will need Rhino 5.0 for Windows or the Rhino 5.0 for Wi
 ndows Eval installed.  You will also need the latest build of Grassho
 pper.  Using the Rhino for OSX WIP is not acceptable for this class.\
 nLocation: McNeel Online (map) ONLINE COURSE All times listed are PDT.
  Seattle, WA  United States\nTo Register:https://student.gototraining
 .com/r/2300265545128254464\n\nFor more information visit https://www.g
 rasshopper3d.com/events/intro-to-grasshopper-online-mornings-2
DTSTART;TZID=America/Boise:20140728T000000
DTEND;TZID=America/Boise:20140731T235900
CATEGORIES:online, workshop
LOCATION:ONLINE
WEBSITE:https://student.gototraining.com/r/2300265545128254464
URL:https://student.gototraining.com/r/2300265545128254464
CONTACT:(206) 634-4571
ORGANIZER:Jody Mills, McNeel North America
ATTACH;FMTTYPE="image/jpeg":http://storage.ning.com/topology/rest/1.0/
 file/get/2828004182?profile=original
ATTENDEE;ROLE=REQ-PARTICIPANT;PARTSTAT=ACCEPTED;RSVP=TRUE;CN="Jody Mil
 ls":https://www.grasshopper3d.com/profile/JodyMills
ATTENDEE;ROLE=REQ-PARTICIPANT;PARTSTAT=TENTATIVE;RSVP=TRUE;CN="Mark Le
 e":https://www.grasshopper3d.com/profile/MarkLee701
END:VEVENT
END:VCALENDAR
