BEGIN:VCALENDAR
PRODID:NingEventWidget-v1
VERSION:2.0
METHOD:PUBLISH
BEGIN:VTIMEZONE
TZID:America/Boise
X-LIC-LOCATION:America/Boise
BEGIN:DAYLIGHT
TZOFFSETFROM:-0700
TZOFFSETTO:-0600
TZNAME:MDT
DTSTART:19700308T020000
RRULE:FREQ=YEARLY;BYMONTH=3;BYDAY=2SU
END:DAYLIGHT
BEGIN:STANDARD
TZOFFSETFROM:-0600
TZOFFSETTO:-0700
TZNAME:MST
DTSTART:19701101T020000
RRULE:FREQ=YEARLY;BYMONTH=11;BYDAY=1SU
END:STANDARD
END:VTIMEZONE
BEGIN:VEVENT
UID:2985220:Event:1846035
DTSTAMP:20260423T090326Z
SUMMARY:Intro_##.gh Grasshopper Workshop Series
DESCRIPTION:Intro_##.gh Grasshopper Workshop Series\nThis is a shorten
 ed description a the event, for the full information please visit eve
 nt/O website.\n\"workshop-like\"\nIntro_##.gh is a cyclical workshop-l
 ike event taking part at the Object office in Poznań.\nThe intention 
 of this event is to provide a relaxed and flexible tutoring experience
 , with only one goal – getting to know Grasshopper better. We will s
 tart with a very exhaustive introduction, then venture into the comput
 ational geometry world in whichever direction we like.\nSchedule\nThe 
 long duration of the series (with a possibility of extension) will ena
 ble each participant to come up with their own research problems durin
 g the learning process. The scope of those problems will have a major 
 influence in setting the direction of each workshop. While a couple of
  initial meetings will be solely spend on Grasshopper basics, the latt
 er part of the series will have a more open character.\nEach meeting d
 ay starts at 10 AM and lasts till 5 PM, with an hour long break for
  lunch (14 hours of tutoring per meeting).\nPlanned meetings:\n\n02/03
  Dec | Intro_01.gh: user interface, geometry types, Rhino/GH connectio
 n\n16/17 Dec | Intro_02.gh: data flow, paneling, geometry rationalizat
 ion\n06/07 Jan | Intro_03.gh: data I/O, excel, csv, data visualization
 , preparing geometry for fabrication\n20/21 Jan | Intro_04.gh: workin
 g with complex definitions, project organization and helpful plugins\n
 10/11 Feb | Intro_05.gh: looping with Anemone, generative design\n17/1
 8 Feb | Intro_06.gh: automating tasks with Anemone, scripting introduc
 tion\n03/04 Mar | Intro_07.gh: scripting\n17/18 Mar | Intro_08.gh: Kan
 garoo\n14/15 Apr | Intro_09.gh: user_defined_1 (flexible)\n28/29 Apr |
  Intro_10.gh: user_defined_2 (flexible)\n\n\nFor more information visi
 t https://www.grasshopper3d.com/events/intro-gh-grasshopper-workshop-s
 eries
DTSTART;TZID=America/Boise:20171202T000000
DTEND;TZID=America/Boise:20180428T235900
CATEGORIES:workshop
LOCATION:Poznań, Poland
WEBSITE:http://eventby.theobject.co/?p=1
URL:http://eventby.theobject.co/?p=1
CONTACT:
ORGANIZER:event/O
ATTACH;FMTTYPE="image/jpeg":http://storage.ning.com/topology/rest/1.0/
 file/get/2829916602?profile=original
ATTENDEE;ROLE=REQ-PARTICIPANT;PARTSTAT=ACCEPTED;RSVP=TRUE;CN=Object:ht
 tps://www.grasshopper3d.com/profile/Object
END:VEVENT
END:VCALENDAR
