BEGIN:VCALENDAR
PRODID:NingEventWidget-v1
VERSION:2.0
METHOD:PUBLISH
BEGIN:VTIMEZONE
TZID:America/Boise
X-LIC-LOCATION:America/Boise
BEGIN:DAYLIGHT
TZOFFSETFROM:-0700
TZOFFSETTO:-0600
TZNAME:MDT
DTSTART:19700308T020000
RRULE:FREQ=YEARLY;BYMONTH=3;BYDAY=2SU
END:DAYLIGHT
BEGIN:STANDARD
TZOFFSETFROM:-0600
TZOFFSETTO:-0700
TZNAME:MST
DTSTART:19701101T020000
RRULE:FREQ=YEARLY;BYMONTH=11;BYDAY=1SU
END:STANDARD
END:VTIMEZONE
BEGIN:VEVENT
UID:2985220:Event:858593
DTSTAMP:20260423T210303Z
SUMMARY:INTERSECTIONS 2013: Interoperable Workflow | Innovative Practi
 ce
DESCRIPTION:Intersections 2013: Interoperable Workflow | Innovative Pr
 actice is a symposium with lectures and panel discussions by industry 
 leaders, educators, and innovators on the topics of:\n\nTOOLS: Identi
 fying them, teaching them, and ensuring they play well together.\nINNO
 VATION: Finding the conditions and opportunities for innovation in bo
 th established firms and small start-ups alike.\nMAKING IT WORK: Tran
 slating innovative technology into high-impact practice using lessons 
 from the field.\n\nAn exhibition of student work will run concurrently
  with the symposium. The display will focus on new curricular initiati
 ves within the Department of Architectural Technology and will include
  research and prototypes from courses on foundational digital skills, 
 computational fabrication, Building Information Modeling (BIM), and bu
 ilding performance/energy modeling.\n\nThe symposium will be held in c
 onjunction with the National Science Foundation (NSF) Advanced Technol
 ogical Education (ATE) grant project \"Fuse LAB: Collaborative Educati
 on for Tomorrow's Technology in Architecture, Engineering, and Constru
 ction\" awarded to the Architectural Technology and Construction Manag
 ement & Civil Engineering (CMCE) Departments at the New York City Coll
 ege of Technology (NYCCT). This grant targets curriculum advancement a
 nd refinement, as well as the development of a dynamic feedback loop w
 ith industry.\n\nFor more information visit https://www.grasshopper3d.
 com/events/intersections-2013-interoperable-workflow-innovative-practi
 ce
DTSTART;TZID=America/Boise:20130531T090000
DTEND;TZID=America/Boise:20130531T170000
CATEGORIES:aec, technology, symposium, and, exhibition
LOCATION:Voorhees Amphitheater
WEBSITE:http://openlab.citytech.cuny.edu/fuselab/event/intersections-2
 013/
URL:http://openlab.citytech.cuny.edu/fuselab/event/intersections-2013/
CONTACT:718-260-5458
ORGANIZER;CN="Brian Ringley":https://www.grasshopper3d.com/profile/bri
 ngley
ATTACH;FMTTYPE="image/jpeg":http://storage.ning.com/topology/rest/1.0/
 file/get/2828294962?profile=original
ATTENDEE;ROLE=REQ-PARTICIPANT;PARTSTAT=ACCEPTED;RSVP=TRUE;CN="Brian Ri
 ngley":https://www.grasshopper3d.com/profile/bringley
ATTENDEE;ROLE=REQ-PARTICIPANT;PARTSTAT=TENTATIVE;RSVP=TRUE;CN="Tyler S
 elby":https://www.grasshopper3d.com/profile/Methodsof
ATTENDEE;ROLE=REQ-PARTICIPANT;PARTSTAT=TENTATIVE;RSVP=TRUE;CN="Mostaph
 a Sadeghipour Roudsari":https://www.grasshopper3d.com/profile/Mostapha
 Sadeghipour
END:VEVENT
END:VCALENDAR
