BEGIN:VCALENDAR
PRODID:NingEventWidget-v1
VERSION:2.0
METHOD:PUBLISH
BEGIN:VTIMEZONE
TZID:America/Boise
X-LIC-LOCATION:America/Boise
BEGIN:DAYLIGHT
TZOFFSETFROM:-0700
TZOFFSETTO:-0600
TZNAME:MDT
DTSTART:19700308T020000
RRULE:FREQ=YEARLY;BYMONTH=3;BYDAY=2SU
END:DAYLIGHT
BEGIN:STANDARD
TZOFFSETFROM:-0600
TZOFFSETTO:-0700
TZNAME:MST
DTSTART:19701101T020000
RRULE:FREQ=YEARLY;BYMONTH=11;BYDAY=1SU
END:STANDARD
END:VTIMEZONE
BEGIN:VEVENT
UID:2985220:Event:1686917
DTSTAMP:20260423T174601Z
SUMMARY:International Summer School / UEL University of East London
DESCRIPTION:Join one of the world’s leading Universities in Architec
 ture, Computing and Engineering to live the London experience – the 
 most cosmopolitan and culturally rich city in the world by participati
 ng in our summer school. You will have the opportunity to visit some o
 f the most iconic buildings and sites such as The Gherkin, The Shard, 
 Tate Morden, Olympic Park, Big Ben, Houses of the Parliment, Victoria 
 & Albert Museum, 20 Fenchurch St Building (Sky Garden), The Leadenhall
  Building, City Hall, National Theatre etc. You will be also taught by
  world class professors in Architecture, Engineering and Computer Scie
 nce. \n\nFor more information visit https://www.grasshopper3d.com/eve
 nts/international-summer-school-uel-university-of-east-london
DTSTART;TZID=America/Boise:20170701T180000
DTEND;TZID=America/Boise:20170715T190000
CATEGORIES:workshop
LOCATION:London, United Kingdom
WEBSITE:http://www.ierek.com/events/university-east-london-internation
 al-summer-programme/
URL:http://www.ierek.com/events/university-east-london-international-s
 ummer-programme/
CONTACT:+2 0-100-002-8021
ORGANIZER;CN="Leila Muhammed":https://www.grasshopper3d.com/profile/Le
 ilaMuhammed
ATTACH;FMTTYPE="image/jpeg":http://storage.ning.com/topology/rest/1.0/
 file/get/2829647240?profile=original
ATTENDEE;ROLE=REQ-PARTICIPANT;PARTSTAT=ACCEPTED;RSVP=TRUE;CN="Leila Mu
 hammed":https://www.grasshopper3d.com/profile/LeilaMuhammed
END:VEVENT
END:VCALENDAR
