BEGIN:VCALENDAR
PRODID:NingEventWidget-v1
VERSION:2.0
METHOD:PUBLISH
BEGIN:VTIMEZONE
TZID:America/Boise
X-LIC-LOCATION:America/Boise
BEGIN:DAYLIGHT
TZOFFSETFROM:-0700
TZOFFSETTO:-0600
TZNAME:MDT
DTSTART:19700308T020000
RRULE:FREQ=YEARLY;BYMONTH=3;BYDAY=2SU
END:DAYLIGHT
BEGIN:STANDARD
TZOFFSETFROM:-0600
TZOFFSETTO:-0700
TZNAME:MST
DTSTART:19701101T020000
RRULE:FREQ=YEARLY;BYMONTH=11;BYDAY=1SU
END:STANDARD
END:VTIMEZONE
BEGIN:VEVENT
UID:2985220:Event:1521180
DTSTAMP:20260421T211635Z
SUMMARY:Intermediate Grasshopper Online
DESCRIPTION:Intermediate Grasshopper Online at McNeel Online\n5/9/2016
  - 5/12/2016Classes: 9:00am-12:30pm (PDT)\nSeattle, WashingtonUS$205\n
 Course Description:Instructor Andres Gonzalez explores the intermediat
 e concepts of generative modeling in Rhino 5 using the Grasshopper add
 -on. He will apply these concepts to Grasshopper intermediate design a
 nd development numerous in numerous real-life examples with you. This
  course is for design professionals who are looking to efficiently lea
 rn concepts and features of Grasshopper at an accelerated pace in an i
 nstructor-led online environment. This course requires \"Intro to Gras
 shopper\" training or equivalent. \nDetails: The class will be condu
 cted in English using the GoToTraining software. You will need Rhino 
 5.0 for Windows or the Rhino 5.0 for Windows Eval installed. You will
  also need the latest build of Grasshopper. Using the Rhino for OSX W
 IP is not acceptable for this class. Details...\nLocation:McNeel Onli
 ne (map)ONLINE COURSEAll times listed are PDT.Seattle, WA United Stat
 es\n\nTo Register:e-mail: Jody Millsphone: (206) 634-4571https://att
 endee.gototraining.com/r/7149802323935486466\n\nFor more information v
 isit https://www.grasshopper3d.com/events/intermediate-grasshopper-onl
 ine
DTSTART;TZID=America/Boise:20160509T090000
DTEND;TZID=America/Boise:20160512T123000
CATEGORIES:on-line-grasshopper-intermediate
LOCATION:On-Line
WEBSITE:https://attendee.gototraining.com/r/7149802323935486466
URL:https://attendee.gototraining.com/r/7149802323935486466
CONTACT:(206) 634-4571
ORGANIZER:e-mail: Jody@mcneel.com
ATTACH;FMTTYPE="image/jpeg":http://storage.ning.com/topology/rest/1.0/
 file/get/2828101761?profile=original
ATTENDEE;ROLE=REQ-PARTICIPANT;PARTSTAT=ACCEPTED;RSVP=TRUE;CN="Karim El
 faramawy":https://www.grasshopper3d.com/profile/KarimElfaramawy
ATTENDEE;ROLE=REQ-PARTICIPANT;PARTSTAT=ACCEPTED;RSVP=TRUE;CN="nujoud m
 aher":https://www.grasshopper3d.com/profile/nujoudmaher
ATTENDEE;ROLE=REQ-PARTICIPANT;PARTSTAT=ACCEPTED;RSVP=TRUE;CN="daniel o
 rlando martinez":https://www.grasshopper3d.com/profile/danielorlandoma
 rtinez
ATTENDEE;ROLE=REQ-PARTICIPANT;PARTSTAT=ACCEPTED;RSVP=TRUE;CN="Antorip 
 Choudhury":https://www.grasshopper3d.com/profile/AntoripChoudhury
ATTENDEE;ROLE=REQ-PARTICIPANT;PARTSTAT=ACCEPTED;RSVP=TRUE;CN="Andres G
 onzalez":https://www.grasshopper3d.com/profile/AndresGonzalez
ATTENDEE;ROLE=REQ-PARTICIPANT;PARTSTAT=TENTATIVE;RSVP=TRUE;CN="hassan 
 kalash":https://www.grasshopper3d.com/profile/hassankalash
ATTENDEE;ROLE=REQ-PARTICIPANT;PARTSTAT=TENTATIVE;RSVP=TRUE;CN=Manish:h
 ttps://www.grasshopper3d.com/profile/Manish
ATTENDEE;ROLE=REQ-PARTICIPANT;PARTSTAT=TENTATIVE;RSVP=TRUE;CN="Pedro M
 arques":https://www.grasshopper3d.com/profile/PedroMarques
ATTENDEE;ROLE=REQ-PARTICIPANT;PARTSTAT=TENTATIVE;RSVP=TRUE;CN="ji huan
 g":https://www.grasshopper3d.com/profile/jihuang
ATTENDEE;ROLE=REQ-PARTICIPANT;PARTSTAT=TENTATIVE;RSVP=TRUE;CN="Svetosl
 av Radev":https://www.grasshopper3d.com/profile/SvetoslavRadev
ATTENDEE;ROLE=REQ-PARTICIPANT;PARTSTAT=TENTATIVE;RSVP=TRUE;CN=joanna-2
 015:https://www.grasshopper3d.com/profile/joanna2015
ATTENDEE;ROLE=REQ-PARTICIPANT;PARTSTAT=TENTATIVE;RSVP=TRUE;CN="Philip 
 J Brown":https://www.grasshopper3d.com/profile/PhilipJBrown
END:VEVENT
END:VCALENDAR
