BEGIN:VCALENDAR
PRODID:NingEventWidget-v1
VERSION:2.0
METHOD:PUBLISH
BEGIN:VTIMEZONE
TZID:America/Boise
X-LIC-LOCATION:America/Boise
BEGIN:DAYLIGHT
TZOFFSETFROM:-0700
TZOFFSETTO:-0600
TZNAME:MDT
DTSTART:19700308T020000
RRULE:FREQ=YEARLY;BYMONTH=3;BYDAY=2SU
END:DAYLIGHT
BEGIN:STANDARD
TZOFFSETFROM:-0600
TZOFFSETTO:-0700
TZNAME:MST
DTSTART:19701101T020000
RRULE:FREQ=YEARLY;BYMONTH=11;BYDAY=1SU
END:STANDARD
END:VTIMEZONE
BEGIN:VEVENT
UID:2985220:Event:1068348
DTSTAMP:20260423T230955Z
SUMMARY:Intermediate Grasshopper Online - McNeel Online
DESCRIPTION:Intermediate Grasshopper Online - McNeel Online\n6/23/201
 4 - 6/26/2014 Orientation: 9:00am-10:30am Classes: 9:00am-12:30pm (PDT
 )\nSeattle, Washington US$215\nCourse Description: Instructor Andres G
 onzalez explores the intermediate concepts of generative modeling in R
 hino 5 using the Grasshopper add-on. He will apply these concepts to G
 rasshopper intermediate design and development numerous in numerous re
 al-life examples with you.   This course is for design professionals 
 who are looking to efficiently learn concepts and features of Grasshop
 per at an accelerated pace in an instructor-led online environment. Th
 is course requires \"Intro to Grasshopper\" training or equivalent.  
 Details:  The class will be conducted in English using the GoToTraini
 ng software.  You will need Rhino 5.0 for Windows or the Rhino 5.0 fo
 r Windows Eval installed.  You will also need the latest build of Gra
 sshopper.  Using the Rhino for OSX WIP is not acceptable for this cla
 ss.  Details...\nLocation: McNeel Online (map) ONLINE COURSE All time
 s listed are PDT. Seattle, WA  United States\nTo Register: https://st
 udent.gototraining.com/r/5815473485709427712\n\nFor more information v
 isit https://www.grasshopper3d.com/events/intermediate-grasshopper-onl
 ine-mornings-at-mcneel-miami
DTSTART;TZID=America/Boise:20140623T000000
DTEND;TZID=America/Boise:20140626T235900
CATEGORIES:online, workshop
LOCATION:ONLINE
WEBSITE:https://student.gototraining.com/r/5815473485709427712
URL:https://student.gototraining.com/r/5815473485709427712
CONTACT:Jackie Nasser (305) 513-4445
ORGANIZER:McNeel North America
ATTACH;FMTTYPE="image/jpeg":http://storage.ning.com/topology/rest/1.0/
 file/get/2828004182?profile=original
ATTENDEE;ROLE=REQ-PARTICIPANT;PARTSTAT=ACCEPTED;RSVP=TRUE;CN="Andres G
 onzalez":https://www.grasshopper3d.com/profile/AndresGonzalez
END:VEVENT
END:VCALENDAR
