BEGIN:VCALENDAR
PRODID:NingEventWidget-v1
VERSION:2.0
METHOD:PUBLISH
BEGIN:VTIMEZONE
TZID:America/Boise
X-LIC-LOCATION:America/Boise
BEGIN:DAYLIGHT
TZOFFSETFROM:-0700
TZOFFSETTO:-0600
TZNAME:MDT
DTSTART:19700308T020000
RRULE:FREQ=YEARLY;BYMONTH=3;BYDAY=2SU
END:DAYLIGHT
BEGIN:STANDARD
TZOFFSETFROM:-0600
TZOFFSETTO:-0700
TZNAME:MST
DTSTART:19701101T020000
RRULE:FREQ=YEARLY;BYMONTH=11;BYDAY=1SU
END:STANDARD
END:VTIMEZONE
BEGIN:VEVENT
UID:2985220:Event:1562141
DTSTAMP:20260423T195018Z
SUMMARY:Intermediate Grasshopper in Los Angeles
DESCRIPTION:Somewhere Something is offering this two-day advanced Gra
 sshopper workshop that will focus on complex geometry creation techniq
 ues, logic operations and advanced data tree management in Grasshopper
 , as well as utilizing number of Grasshopper Plugins. Through lecture
 s and hands on exercises, the participants will construct the followin
 g two case studies:\n1. The Cutty Sark pavilion by BAKOKO Architects i
 s a pavilion scale case-study with interesting geometry which will all
 ow us to delve into advanced geometry construction and data management
  techniques. We will install and utilize the Lunchbox plugin for this 
 exercise for number of surface operations.\n2. The Marlins Park by Pop
 ulous architectural firm is a baseball stadium with an operating truss
  roof structure. The complexity of this case study's roof structure wi
 ll allow us to further explore data tree management tool as well as lo
 gic construction techniques in Grasshopper. We will install and utiliz
 e the Centipede plugin for this exercise in order to generate a sequen
 tial animation of the operable roof.\nTopics Covered\n\nWhat are Data 
 Trees? Why do we need them?\nHow to create and manage complex geometri
 c relationships.\nHow to install and use plugins in Grasshopper.\nHow 
 to create drawings, renderings and animations in Grasshopper.\n\nAbout
  the Instructors Jason King & Biayna Bogosian have nearly two decades 
 of combined experience in architecture, design technology, and teachin
 g. We strive to make our workshops fun and informative, helping partic
 ipants integrate new design technologies into their workflows.\n\nFor 
 more information visit https://www.grasshopper3d.com/events/intermedia
 te-grasshopper-in-los-angeles
DTSTART;TZID=America/Boise:20160730T100000
DTEND;TZID=America/Boise:20160731T160000
CATEGORIES:workshop, "los angeles", "somewhere something", "data tree"
LOCATION:Los Angeles
WEBSITE:http://www.somewheresomething.com/gh-intermediate/
URL:http://www.somewheresomething.com/gh-intermediate/
CONTACT:323.382.8939
ORGANIZER;CN="Somewhere Something":https://www.grasshopper3d.com/profi
 le/SomewhereSomething
ATTACH;FMTTYPE="image/jpeg":http://storage.ning.com/topology/rest/1.0/
 file/get/2829421582?profile=original
ATTENDEE;ROLE=REQ-PARTICIPANT;PARTSTAT=ACCEPTED;RSVP=TRUE;CN="Somewher
 e Something":https://www.grasshopper3d.com/profile/SomewhereSomething
END:VEVENT
END:VCALENDAR
