BEGIN:VCALENDAR
PRODID:NingEventWidget-v1
VERSION:2.0
METHOD:PUBLISH
BEGIN:VTIMEZONE
TZID:America/Boise
X-LIC-LOCATION:America/Boise
BEGIN:DAYLIGHT
TZOFFSETFROM:-0700
TZOFFSETTO:-0600
TZNAME:MDT
DTSTART:19700308T020000
RRULE:FREQ=YEARLY;BYMONTH=3;BYDAY=2SU
END:DAYLIGHT
BEGIN:STANDARD
TZOFFSETFROM:-0600
TZOFFSETTO:-0700
TZNAME:MST
DTSTART:19701101T020000
RRULE:FREQ=YEARLY;BYMONTH=11;BYDAY=1SU
END:STANDARD
END:VTIMEZONE
BEGIN:VEVENT
UID:2985220:Event:1703642
DTSTAMP:20260423T071722Z
SUMMARY:INTELLIGENT TECTONICS V2.0
DESCRIPTION:Promo Video: https://vimeo.com/210271517\n\nGrasshopper :
  Fabrication\n\nIntelligent Tectonics V2.0 is a parametric design an
 d fabrication workshop for a 1:1 scale ceiling installation at DeCode 
 FabLab using Grasshopper, Karamba, Kangaroo, and Octopus in Athens, G
 reece from Jul 08th to Jul 15th.\nTaught by\nAlejandro Garcia Gadea - 
 DesignMorphine Radul Shishkov - DesignMorphine Alberto Lago - DesignMo
 rphine\n\nSpecial discount for previous DesignMorphine, 3D-Dreaming, a
 nd DeCode workshop attendees.\n\nAdditional discount for NTUA students
 \n\nSPOTS ARE LIMITED!!! You won't want to miss this!!!\n\nRegistratio
 n: www.designmorphine.com/workshop/future/intelligent-tectonics-v2/\n
  Follow us on Facebook: www.facebook.com/designmorphine  and Instagra
 m: www.instagram.com/designmorphine\n\nFor more information visit htt
 ps://www.grasshopper3d.com/events/intelligent-tectonics-v2-0
DTSTART;TZID=America/Boise:20170708T090000
DTEND;TZID=America/Boise:20170715T200000
CATEGORIES:workshop, grasshopper, parametric, details, fabrication, do
 cumentation
LOCATION:DeCode FabLab - Agiou Thoma 9 and Halkidonos 52 corner, Athen
 s, Greece.
WEBSITE:http://designmorphine.com/workshop/future/intelligent-tectonic
 s-v2/
URL:http://designmorphine.com/workshop/future/intelligent-tectonics-v2
 /
CONTACT:
ORGANIZER;CN=DesignMorphine:https://www.grasshopper3d.com/profile/Desi
 gnMorphine
ATTACH;FMTTYPE="image/jpeg":http://storage.ning.com/topology/rest/1.0/
 file/get/2709052758?profile=original
ATTENDEE;ROLE=REQ-PARTICIPANT;PARTSTAT=ACCEPTED;RSVP=TRUE;CN=DesignMor
 phine:https://www.grasshopper3d.com/profile/DesignMorphine
END:VEVENT
END:VCALENDAR
