BEGIN:VCALENDAR
PRODID:NingEventWidget-v1
VERSION:2.0
METHOD:PUBLISH
BEGIN:VTIMEZONE
TZID:America/Boise
X-LIC-LOCATION:America/Boise
BEGIN:DAYLIGHT
TZOFFSETFROM:-0700
TZOFFSETTO:-0600
TZNAME:MDT
DTSTART:19700308T020000
RRULE:FREQ=YEARLY;BYMONTH=3;BYDAY=2SU
END:DAYLIGHT
BEGIN:STANDARD
TZOFFSETFROM:-0600
TZOFFSETTO:-0700
TZNAME:MST
DTSTART:19701101T020000
RRULE:FREQ=YEARLY;BYMONTH=11;BYDAY=1SU
END:STANDARD
END:VTIMEZONE
BEGIN:VEVENT
UID:2985220:Event:1595558
DTSTAMP:20260419T094300Z
SUMMARY:Initiation à la Robotique
DESCRIPTION:Workshop d'initiation a la robotique avec Grasshopper en F
 rancais.\n2 jours, programme ici : programme\nSujets : manipulation du
  robot, trajectoires simples, commande des sorties, pick'n place, Mass
  customisation\n\nFor more information visit https://www.grasshopper3d
 .com/events/initiation-la-robotique
DTSTART;TZID=America/Boise:20161022T000000
DTEND;TZID=America/Boise:20161023T235900
CATEGORIES:workshop
LOCATION:Factory87
WEBSITE:http://workshop.robotfaber.com/module/
URL:http://workshop.robotfaber.com/module/
CONTACT:
ORGANIZER;CN=ludo:https://www.grasshopper3d.com/profile/ludo
ATTACH;FMTTYPE="image/jpeg":
ATTENDEE;ROLE=REQ-PARTICIPANT;PARTSTAT=ACCEPTED;RSVP=TRUE;CN=ludo:http
 s://www.grasshopper3d.com/profile/ludo
END:VEVENT
END:VCALENDAR
