BEGIN:VCALENDAR
PRODID:NingEventWidget-v1
VERSION:2.0
METHOD:PUBLISH
BEGIN:VTIMEZONE
TZID:America/Boise
X-LIC-LOCATION:America/Boise
BEGIN:DAYLIGHT
TZOFFSETFROM:-0700
TZOFFSETTO:-0600
TZNAME:MDT
DTSTART:19700308T020000
RRULE:FREQ=YEARLY;BYMONTH=3;BYDAY=2SU
END:DAYLIGHT
BEGIN:STANDARD
TZOFFSETFROM:-0600
TZOFFSETTO:-0700
TZNAME:MST
DTSTART:19701101T020000
RRULE:FREQ=YEARLY;BYMONTH=11;BYDAY=1SU
END:STANDARD
END:VTIMEZONE
BEGIN:VEVENT
UID:2985220:Event:1367944
DTSTAMP:20260423T194828Z
SUMMARY:\"inFORMed Clay Matter 2.0\" workshop
DESCRIPTION:inFORMed Clay matter 2.0 grasshopper & robotics workshop 2
 3-25 Oct 2015 - Turin, Italy\nThe workshop idea rises from a collabora
 tion between Co-de-iT, Fablab Torino, Officine Arduino, based on an on
 going Co-de-iT research called “inFORMed matter“.\nThe “inFORMed
  matter” research project focuses on the exploration of additive fab
 rication processes, aiming to inform as in to produce form through the
  morphogenetic properties and capacities of matter by embedding furthe
 r information structures during the fabrication process itself.\nThe g
 oal is to go beyond the current state of prototyping, according to whi
 ch the physical prototype should be as close as possible a clone of it
 s digital counterpart, thus making fabrication a purely replicational 
 phase. Instead, by coding and embedding additional levels of informati
 on aimed at mapping and defining material features and behaviors as we
 ll as different deployment patterns from which physical and aesthetic 
 properties arise, the production and digital fabrication phase becomes
  an integral part of the design process.\nThe workshop it’s focused 
 about the exploration and development of the whole process of design a
 nd digital manufacturing through additive processes of ceramic mixture
  materials.\n[.] Workshop topics:\n- Anticipate material behavior thro
 ugh digital simulation: test and apply different tool-based conditions
  and parameters (extrusion direction angle, speed of extrusion, variab
 le layer thickness, etc … ) and evaluate the consequent material beh
 avior in order to get useful feedback for the next iteration of the di
 gital model. The aim is to understand how to embed material properties
  as code/information during the digital design phase, fine tuning it t
 owards the desired effect-outcome. - Seamless design-to-machine pipeli
 ne: shorten the information pipeline from the design process to the co
 nstructor machine. This is achieved by acting on both factors: informi
 ng directly the machines by generating the necessary code in the desig
 n tool and build the design process around the capacities of the machi
 nes involved. - Embed morphogenetic material properties as design fact
 ors: understand and manage such properties, behaviors and their potent
 ial morphological outcomes for different materials, from clay to biolo
 gic matter, in order to map and use them as an atlas of expressive pos
 sibilities and performances of the material. - Understand constraints 
 and opportunities determined by the chosen constructor agent/machine: 
 learn to use and manage different machines to handle the extrusion too
 l for additive processes and learn to evaluate and exploit the influen
 ce, constraints and given opportunities provided by different machines
  and movement technologies.\nDuring the workshop will be used as tools
  for handling the special ceramic extruder, a customized 3D printer, t
 ype delta, and a 6-axis Comau Robot NJ 60.\nThe final output will be t
 hen the result of influence, cooperation and conflict of these aspects
  upon, with and onto one another. Only successfully combining computat
 ional simulation, material properties and capacities and machine const
 raints and opportunities we can effectively evaluate and push further 
 the design process potential and foster design and fabrication skills 
 and sensibilities that will form the basis of a more comprehensive awa
 reness in regard to the relations between computation and material asp
 ects.\nMore info at: http://www.co-de-it.com/wordpress/informed-clay-
 matter-2-0-fablab-torino.html\n\nFor more information visit https://ww
 w.grasshopper3d.com/events/informed-clay-matter-2-0-workshop
DTSTART;TZID=America/Boise:20151023T000000
DTEND;TZID=America/Boise:20151025T235900
CATEGORIES:"informed clay matter", workshop
LOCATION:Fablab Torino
WEBSITE:http://www.co-de-it.com/wordpress/informed-clay-matter-2-0-fab
 lab-torino.html
URL:http://www.co-de-it.com/wordpress/informed-clay-matter-2-0-fablab-
 torino.html
CONTACT:
ORGANIZER;CN=Co-de-iT:https://www.grasshopper3d.com/profile/CodeiT
ATTACH;FMTTYPE="image/jpeg":http://storage.ning.com/topology/rest/1.0/
 file/get/2829072592?profile=original
ATTENDEE;ROLE=REQ-PARTICIPANT;PARTSTAT=ACCEPTED;RSVP=TRUE;CN=Co-de-iT:
 https://www.grasshopper3d.com/profile/CodeiT
END:VEVENT
END:VCALENDAR
