BEGIN:VCALENDAR
PRODID:NingEventWidget-v1
VERSION:2.0
METHOD:PUBLISH
BEGIN:VTIMEZONE
TZID:America/Boise
X-LIC-LOCATION:America/Boise
BEGIN:DAYLIGHT
TZOFFSETFROM:-0700
TZOFFSETTO:-0600
TZNAME:MDT
DTSTART:19700308T020000
RRULE:FREQ=YEARLY;BYMONTH=3;BYDAY=2SU
END:DAYLIGHT
BEGIN:STANDARD
TZOFFSETFROM:-0600
TZOFFSETTO:-0700
TZNAME:MST
DTSTART:19701101T020000
RRULE:FREQ=YEARLY;BYMONTH=11;BYDAY=1SU
END:STANDARD
END:VTIMEZONE
BEGIN:VEVENT
UID:2985220:Event:844368
DTSTAMP:20260424T110212Z
SUMMARY:Infections v2: Re_Flex Patterning
DESCRIPTION:Re_Flex Patterning workshop is conducted by Tuğrul Yazar 
 and Fulya Akipek from İstanbul Bilgi University Faculty of Architectu
 re. Below is the brief of it's context:\nIntegrating digital media wit
 h material world reveals emergent performances. Parametric modeling te
 chniques encourage designers to study more one the envelopes of potent
 ials instead of singular artifacts. Working with these envelopes revea
 l a design cycle that entails determination of relations and within th
 is relational framework, dynamics keep design process active and varia
 ble. In the serie of workshops titled “Infections”, static and reg
 ular patterns of built environment are considered as “host bodies”
 . Their contextual potentials are revealed and digital technologies st
 art the becoming of these bodies within the concept of infection. In s
 econd workshop titled “Re_Flex Patterning”, an atrium is considere
 d as the host body. It will be studied beyond its gridal order, genera
 ting re-flex patterns as the initial step on the revealing of it’s p
 otentials. Throughout the workshop, Grasshopper will be used as a tool
  of parametric modeling and digital deformation techniques, while phys
 ical form-finding will be studied on a composite material.\n\nFor more
  information visit https://www.grasshopper3d.com/events/infections-v2-
 re-flex-patterning
DTSTART;TZID=America/Boise:20130506T000000
DTEND;TZID=America/Boise:20130508T235900
CATEGORIES:workshop
LOCATION:İzzet Baysal University
WEBSITE:http://www.designcoding.net
URL:http://www.designcoding.net
CONTACT:
ORGANIZER;CN=designcoding:https://www.grasshopper3d.com/profile/Tugrul
 Yazar
ATTACH;FMTTYPE="image/jpeg":http://storage.ning.com/topology/rest/1.0/
 file/get/2828278998?profile=original
ATTENDEE;ROLE=REQ-PARTICIPANT;PARTSTAT=ACCEPTED;RSVP=TRUE;CN=designcod
 ing:https://www.grasshopper3d.com/profile/TugrulYazar
END:VEVENT
END:VCALENDAR
