BEGIN:VCALENDAR
PRODID:NingEventWidget-v1
VERSION:2.0
METHOD:PUBLISH
BEGIN:VTIMEZONE
TZID:America/Boise
X-LIC-LOCATION:America/Boise
BEGIN:DAYLIGHT
TZOFFSETFROM:-0700
TZOFFSETTO:-0600
TZNAME:MDT
DTSTART:19700308T020000
RRULE:FREQ=YEARLY;BYMONTH=3;BYDAY=2SU
END:DAYLIGHT
BEGIN:STANDARD
TZOFFSETFROM:-0600
TZOFFSETTO:-0700
TZNAME:MST
DTSTART:19701101T020000
RRULE:FREQ=YEARLY;BYMONTH=11;BYDAY=1SU
END:STANDARD
END:VTIMEZONE
BEGIN:VEVENT
UID:2985220:Event:600407
DTSTAMP:20260423T123740Z
SUMMARY:IE/TUG Summer School in Madrid
DESCRIPTION:In July 2012 two leading independent schools of architectu
 re—The Technical University of Graz, Faculty of Architecture and IE 
 School of Architecture & Design, Madrid/Segovia—will join forces to 
 conduct the IE/TUG Summer School in Madrid, one of Europe’s most dyn
 amic capital cities. The intensive, 8-day, studio-based design worksho
 p is open to enthusiastic architecture students at the undergraduate a
 nd graduate level, as well as students from other disciplines, and tho
 se who have recently completed their studies.\nAlongside studio-based 
 design tutorials led by an international team of teachers and assistan
 ts, intensive courses on digital design offering instruction in Rhino 
 3D-modelling, Grasshopper, scripting and communication abilities will 
 support the production of individual and collective work.\nhttp://www.
 ie_tugsummerschool.ie.edu/\nDeadline for applications 1st July\nhttp:/
 /www.ie_tugsummerschool.ie.edu/application?lang=en\n\n\n\nFor more inf
 ormation visit https://www.grasshopper3d.com/events/ie-tug-summer-scho
 ol-in-madrid
DTSTART;TZID=America/Boise:20120706T000000
DTEND;TZID=America/Boise:20120713T235900
CATEGORIES:parametric, design, grasshopper, rhino, 3d, workshop, semin
 ar
LOCATION:Spain
WEBSITE:http://IE/TUG Summer School in Madrid
URL:http://IE/TUG Summer School in Madrid
CONTACT:
ORGANIZER;CN="Ioanna Symeonidou":https://www.grasshopper3d.com/profile
 /IoannaSymeonidou
ATTACH;FMTTYPE="image/jpeg":http://storage.ning.com/topology/rest/1.0/
 file/get/2828017794?profile=original
ATTENDEE;ROLE=REQ-PARTICIPANT;PARTSTAT=ACCEPTED;RSVP=TRUE;CN="Ioanna S
 ymeonidou":https://www.grasshopper3d.com/profile/IoannaSymeonidou
ATTENDEE;ROLE=REQ-PARTICIPANT;PARTSTAT=TENTATIVE;RSVP=TRUE;CN="Carlos 
 Pérez":https://www.grasshopper3d.com/profile/CarlosPerez
END:VEVENT
END:VCALENDAR
