BEGIN:VCALENDAR
PRODID:NingEventWidget-v1
VERSION:2.0
METHOD:PUBLISH
BEGIN:VTIMEZONE
TZID:America/Boise
X-LIC-LOCATION:America/Boise
BEGIN:DAYLIGHT
TZOFFSETFROM:-0700
TZOFFSETTO:-0600
TZNAME:MDT
DTSTART:19700308T020000
RRULE:FREQ=YEARLY;BYMONTH=3;BYDAY=2SU
END:DAYLIGHT
BEGIN:STANDARD
TZOFFSETFROM:-0600
TZOFFSETTO:-0700
TZNAME:MST
DTSTART:19701101T020000
RRULE:FREQ=YEARLY;BYMONTH=11;BYDAY=1SU
END:STANDARD
END:VTIMEZONE
BEGIN:VEVENT
UID:2985220:Event:1372139
DTSTAMP:20260423T160525Z
SUMMARY:IAM Nuevo Curso de Programacion Visual Avanzada: ARQUITECTURA 
 REPROGRAMADA.
DESCRIPTION:En el curso, denominado Arquitectura Reprogramada, hackea
 reamos el código de un edificio de arquitectura y su entorno urban
 o, en este caso el Centro de Estudios Hidrográficos de Fisac, guiados
  por el Profesor de Proyectos Francisco Arqués Soler, experto en la m
 ateria; Una vez exploradas y programadas las decisiones generativas de
 l proyecto, el grupo servirá de laboratorio para investigar mutacione
 s del mismo.\n http://dpa-etsam.com/iam/iam-cursos \n https://www.f
 acebook.com/iamadridETSAM?fref=ts \n\n Trabajaremos en la plataforma
  de programación visual Grasshopper, reventaremos los principios de 
 su estructura (mediante Millipede , exploraremos las condiciones bioc
 limáticas (mediante Ladybug+Honeybeey navegaremos por procesos de for
 m finding y variaciones generativas (mediante Galapagos y Octopus y s
 u conversión a BIM (mediante Chamaleon, Lyrebird, Visualarq, puesto q
 ue el dia final programaremos la salida del prototipo a Revit).\nNOTA:
  el curso tendra lugar la segunda mitad de este OCTUBRE, aunque el CAL
 ENDARIO aun esta abierto de manera asamblearia al maravilloso grupo re
 ducido de elegidos que se apunten al final, aunque suele ser MARTES Y 
 JUEVES, DE 16:00 A 18:00 HORAS.\nTítulo Oficial de Experto en Progra
 macion Visual por la UPM, y los creditos respectivos (en este caso 2
 ,5) \n\niAM | Instituto de Arquitectura de Madrid <iamadrid.arquitect
 ura@upm.es> +34 91 336 6537 / 6589\n\nFor more information visit htt
 ps://www.grasshopper3d.com/events/iam-nuevo-curso-de-programacion-visu
 al-avanzada-arquitectura
DTSTART;TZID=America/Boise:20151020T160000
DTEND;TZID=America/Boise:20151120T160000
CATEGORIES:course
LOCATION:Madrid
WEBSITE:http://dpa-etsam.com/iam/iam-cursos
URL:http://dpa-etsam.com/iam/iam-cursos
CONTACT:+34 91 336 6537 / 6589
ORGANIZER;CN=IAM:https://www.grasshopper3d.com/profile/IAM
ATTACH;FMTTYPE="image/jpeg":http://storage.ning.com/topology/rest/1.0/
 file/get/2829081370?profile=original
ATTENDEE;ROLE=REQ-PARTICIPANT;PARTSTAT=ACCEPTED;RSVP=TRUE;CN="Doctor N
 o":https://www.grasshopper3d.com/profile/DrNo
ATTENDEE;ROLE=REQ-PARTICIPANT;PARTSTAT=ACCEPTED;RSVP=TRUE;CN=IAM:https
 ://www.grasshopper3d.com/profile/IAM
END:VEVENT
END:VCALENDAR
