BEGIN:VCALENDAR
PRODID:NingEventWidget-v1
VERSION:2.0
METHOD:PUBLISH
BEGIN:VTIMEZONE
TZID:America/Boise
X-LIC-LOCATION:America/Boise
BEGIN:DAYLIGHT
TZOFFSETFROM:-0700
TZOFFSETTO:-0600
TZNAME:MDT
DTSTART:19700308T020000
RRULE:FREQ=YEARLY;BYMONTH=3;BYDAY=2SU
END:DAYLIGHT
BEGIN:STANDARD
TZOFFSETFROM:-0600
TZOFFSETTO:-0700
TZNAME:MST
DTSTART:19701101T020000
RRULE:FREQ=YEARLY;BYMONTH=11;BYDAY=1SU
END:STANDARD
END:VTIMEZONE
BEGIN:VEVENT
UID:2985220:Event:655494
DTSTAMP:20260420T010256Z
SUMMARY:HyperSpace dB - AA Visiting School - Bibliotheca Alexandrina
DESCRIPTION:HyperSpace dB is a workshop that focuses on the challenges
  of an acoustic design vignette using digital tools. Acoustics add an 
 extra dimension to space; it may superimpose temporal hyperspaces with
 in a physical Euclidian space. Multi-dimensional aural spaces are the 
 very essence of the Egyptian culture and can be comprehended by being 
 immersed within sonic dynamic qualities. The adopted unique overall th
 eme is ‘HyperSpace decibel’, aiming to create three distinct sets 
 of installations, one that introduces sound, one that uses the existin
 g sound in a space, and one that creates a visual sculpture that respo
 nds to sound. One of each set will be installed within an exhibition s
 pace in the Bibliotheca Alexandrina, creating three different acoustic
 al arenas within one space.   The AA Alexandria Visiting School will
  be working closely with the Library of Alexandria ‘Bibliotheca Alex
 andrina’, which has a long history of research and research collabor
 ation. In addition, ENCODE studio will be collaborating with the scho
 ol in the fabrication and assembly process through their connections w
 ith workshops around Alexandria.\n\nFor more information visit https:/
 /www.grasshopper3d.com/events/hyperspace-db-aa-visiting-school
DTSTART;TZID=America/Boise:20120910T000000
DTEND;TZID=America/Boise:20120920T235900
CATEGORIES:workshop
LOCATION:Bibliotheca Alexandrina, Alexandria,Egypt
WEBSITE:http://www.aaschool.ac.uk/STUDY/VISITING/alexandria
URL:http://www.aaschool.ac.uk/STUDY/VISITING/alexandria
CONTACT:+44 20 7887 4014
ORGANIZER:Merate Barakat
ATTACH;FMTTYPE="image/jpeg":http://storage.ning.com/topology/rest/1.0/
 file/get/2828063546?profile=original
ATTENDEE;ROLE=REQ-PARTICIPANT;PARTSTAT=ACCEPTED;RSVP=TRUE;CN=Zaghloul4
 d:https://www.grasshopper3d.com/profile/MohamedHassanZaghloul
END:VEVENT
END:VCALENDAR
