BEGIN:VCALENDAR
PRODID:NingEventWidget-v1
VERSION:2.0
METHOD:PUBLISH
BEGIN:VTIMEZONE
TZID:America/Boise
X-LIC-LOCATION:America/Boise
BEGIN:DAYLIGHT
TZOFFSETFROM:-0700
TZOFFSETTO:-0600
TZNAME:MDT
DTSTART:19700308T020000
RRULE:FREQ=YEARLY;BYMONTH=3;BYDAY=2SU
END:DAYLIGHT
BEGIN:STANDARD
TZOFFSETFROM:-0600
TZOFFSETTO:-0700
TZNAME:MST
DTSTART:19701101T020000
RRULE:FREQ=YEARLY;BYMONTH=11;BYDAY=1SU
END:STANDARD
END:VTIMEZONE
BEGIN:VEVENT
UID:2985220:Event:1117327
DTSTAMP:20260423T231701Z
SUMMARY:Hypars //   computational design  workshop at ENCODE Studio,EG
 YPT
DESCRIPTION:Workshop 1/ 1-4 Sep. 2014 Hypars / Hyperbolic surface from
  structure to ornaments webpage: http://www.encodestudio.net/#!hypar/
 co9p   /// Brief   Despite the advent of digital modelling and genera
 tion of curved surfaces, its fabrication methods are still a challenge
  especially on the level of complex surfaces and large scale assemblie
 s. Mathematical surfaces in general and hyperbolic paraboloids (Hypars
 ) in particular embed neverending opportunities for planar constructio
 n techniques. The ancient surface of Hypars is one of the most interes
 ting mathematical forms for architects from quantitative structural op
 timization to qualitative ornaments. Hypars have been used extensively
  in the works of avant-garde architects including: Gaudi, the Philips 
 pavilion of le Corbusier, Shell structures of Felix Candela and Frei O
 tto tensile structures, as well as, many contemporary architects.  Hyp
 ars workshop aims to develop the computational design techniques of co
 mplex organizations of hyperbolic surfaces from the structural to the 
 ornamental scale in respect to the planar fabrication methods. The mat
 hematical and geometrical qualities of ruled surfaces will be explored
  in parallel to material and assembly logic of planar elements for 1:1
  prototype of an outdoor canopy in Alexandria. Geometrical properties 
 of Hypars will be coded on the platform of Rhino and Grasshopper while
  the physical prototypes will be in wood and paper which offer an inte
 grated and intuitive understanding of complex geometries and physical 
 relationships. The workshop objective is to reconsider materials and f
 abrication as a design tool for architects.  /// Application To apply,
  please follow this link to fill the application form  https://docs.g
 oogle.com/forms/d/1S2-7YNifUing8SVX3Iz9ArrgQgjIk77w9jzG70sIHv0/viewfor
 m  /// Fees* 1700 EGP for students / 2000 EGP for graduates and young 
 professionals * 20 % discount for early registration and payment befor
 e 22 nd of August 2014   more info on the workshop webpage: http://ww
 w.encodestudio.net/#!hypar/co9p\n\nFor more information visit https://
 www.grasshopper3d.com/events/hypars-computational-design-workshop-at-e
 ncode-studio
DTSTART;TZID=America/Boise:20140901T100000
DTEND;TZID=America/Boise:20140904T160000
CATEGORIES:workshop
LOCATION:ENCODE studio
WEBSITE:http://www.encodestudio.net
URL:http://www.encodestudio.net
CONTACT:002-03-3823637
ORGANIZER:ENCODE studio
ATTACH;FMTTYPE="image/jpeg":http://storage.ning.com/topology/rest/1.0/
 file/get/2828632723?profile=original
ATTENDEE;ROLE=REQ-PARTICIPANT;PARTSTAT=ACCEPTED;RSVP=TRUE;CN=Ebtissam:
 https://www.grasshopper3d.com/profile/Ebtissam
ATTENDEE;ROLE=REQ-PARTICIPANT;PARTSTAT=ACCEPTED;RSVP=TRUE;CN="Mohamed 
 Dawod":https://www.grasshopper3d.com/profile/MohamedMDawod
END:VEVENT
END:VCALENDAR
