BEGIN:VCALENDAR
PRODID:NingEventWidget-v1
VERSION:2.0
METHOD:PUBLISH
BEGIN:VTIMEZONE
TZID:America/Boise
X-LIC-LOCATION:America/Boise
BEGIN:DAYLIGHT
TZOFFSETFROM:-0700
TZOFFSETTO:-0600
TZNAME:MDT
DTSTART:19700308T020000
RRULE:FREQ=YEARLY;BYMONTH=3;BYDAY=2SU
END:DAYLIGHT
BEGIN:STANDARD
TZOFFSETFROM:-0600
TZOFFSETTO:-0700
TZNAME:MST
DTSTART:19701101T020000
RRULE:FREQ=YEARLY;BYMONTH=11;BYDAY=1SU
END:STANDARD
END:VTIMEZONE
BEGIN:VEVENT
UID:2985220:Event:807774
DTSTAMP:20260423T194032Z
SUMMARY:HOW WE CAN DESIGN SOMETHING THAT WE CAN’T IMAGINE Generative
  Optimization
DESCRIPTION:> Lecture TOPIC: OPTIMIZATION IN DESIGN <\n \nWe introduc
 e a FRESH METHODOLOGY to OPTIMIZE AN IDEA, through a challenging probl
 em-solving way of thinking.\nThis will be accomplished starting from t
 he concept, moving on to decision making and continuing with digital a
 nd generative design tools TO GET THE BEST SOLUTION for each problem.\
 nWHY? The world is complex and ever-changing and we need to be able to
  handle the volume of information we receive and, of course, to find a
 nd choose the best solution. Therefore, we direct our ATTENTION TO THE
  CAUSE, and not only on the effects/solutions.\nWe will learn from NAT
 URE, the only “company” that has not gone bankrupt in over 4000M y
 ears, and it’s GENERATIVE SOLUTIONS. \n\n> OBJECTIVES <\n \nThe pa
 rticipants will work in multidisciplinary groups (ex. architect + desi
 gner + business manager + constructor + communication specialist etc.)
  applying knowledge management tools, different approaches and nature-
 based optimization methods.\n \nListed objectives:\n1. Improving the 
 generative way of TURNING AN IDEA INTO A PROJECT through problem-solvi
 ng thinking\n2. Discovering nature’s ways of shaping evolutionary so
 lutions\n3. Getting out from our comfort zone and working together wit
 h other professionals in groups in order to achieve better solutions: 
 Multidisciplinary Design Optimization\n4. Learning to use technology t
 o manage information in the decision making process\n& surviving the w
 hole week \n> ATTENDANCE & COSTS <\n> Early bird – until 17th March
  2013\n   Lecture – 15 euro (includes presentations, food& drinks)
 \n   Workshop – 100 euro (includes lecture, food& drinks)\n \n> L
 ate bird – until 6th April 2013\n   Lecture – 25 euro (includes 
 presentations, food& drinks)\n   Workshop – 120 euro (includes lec
 ture, food& drinks)\n\n\nFor more information visit https://www.grassh
 opper3d.com/events/how-we-can-design-something-that-we-can-t-imagine-g
 enerative
DTSTART;TZID=America/Boise:20130408T000000
DTEND;TZID=America/Boise:20130414T235900
CATEGORIES:educational, workshop
LOCATION:Romania
WEBSITE:http://generativeoptimization.ro/
URL:http://generativeoptimization.ro/
CONTACT:0040 722 86 06 87
ORGANIZER:Parametrica [ Digi Fab School ]
ATTACH;FMTTYPE="image/jpeg":http://storage.ning.com/topology/rest/1.0/
 file/get/2828231740?profile=original
ATTENDEE;ROLE=REQ-PARTICIPANT;PARTSTAT=ACCEPTED;RSVP=TRUE;CN="Andrew R
 eynolds":https://www.grasshopper3d.com/profile/AndrewReynolds
ATTENDEE;ROLE=REQ-PARTICIPANT;PARTSTAT=ACCEPTED;RSVP=TRUE;CN="Santiago
  Martín Laguna":https://www.grasshopper3d.com/profile/SantiagoMartinL
 aguna
ATTENDEE;ROLE=REQ-PARTICIPANT;PARTSTAT=ACCEPTED;RSVP=TRUE;CN="ina leon
 te":https://www.grasshopper3d.com/profile/inaleonte
ATTENDEE;ROLE=REQ-PARTICIPANT;PARTSTAT=ACCEPTED;RSVP=TRUE;CN="Arian Ha
 kimi Nejad":https://www.grasshopper3d.com/profile/ArianHakimiNejad205
END:VEVENT
END:VCALENDAR
