BEGIN:VCALENDAR
PRODID:NingEventWidget-v1
VERSION:2.0
METHOD:PUBLISH
BEGIN:VTIMEZONE
TZID:America/Boise
X-LIC-LOCATION:America/Boise
BEGIN:DAYLIGHT
TZOFFSETFROM:-0700
TZOFFSETTO:-0600
TZNAME:MDT
DTSTART:19700308T020000
RRULE:FREQ=YEARLY;BYMONTH=3;BYDAY=2SU
END:DAYLIGHT
BEGIN:STANDARD
TZOFFSETFROM:-0600
TZOFFSETTO:-0700
TZNAME:MST
DTSTART:19701101T020000
RRULE:FREQ=YEARLY;BYMONTH=11;BYDAY=1SU
END:STANDARD
END:VTIMEZONE
BEGIN:VEVENT
UID:2985220:Event:536125
DTSTAMP:20260423T035014Z
SUMMARY:Hermosas Incertidumbres
DESCRIPTION:\n\nHermosas Incertidumbres from CÓDIGO ABIERTO on Vimeo.
 \n\nHermosas Incertidumbres Programación con patrones y la estética 
 emergente\n\nImparte: Jorge Ramírez\nInvitado: Ernesto Romero\nDuraci
 ón: 30hrs\nCosto: $8500\nInicio: 1º de Marzo (concierto de inicio / 
 29 de Febrero // El Historial)\nHorario: Martes y Jueves 18:00 a 21:00
  // Sábado 10:00 a 14:00\n\n\nSuperCollider es un lenguaje de program
 ación orientado a objetos especializado en audio de avanzada. Ideal p
 ara la creación en tiempo real de aplicaciones interactivas, manejo d
 e ambientación multicanal,investigación acústica, diseño de audio 
 de vanguardia y música algorítmica. Es utilizado por artistas, músi
 cos y científicos alrededor del mundo por su sintáxis clara, sencill
 a y moderna.\nEn el curso veremos a fondo la programación con patrone
 s con SuperCollider. Los patrones, son una representación de alto niv
 el de tareas computacionales que, usados correctamente, facilitan infi
 nidad de detalles de proceso, permitiendo un estilo limpio, abstracto 
 y sencillo para principiantes, y al mismo tiempo, expresivo y abstract
 o para avanzados.\n\nTEMARIO\n\nProgramación para electrónica en tie
 mpo real.\nMúsica generativa.\nCódigo en vivo.\nComposición algorí
 tmica.\nDiseño sonoro emergente.\nAutómatas sonoros.\nTraducción de
  código ADN a sonido.\nComunicación con otros programas.(processing)
 .\n\n\nConcierto de inicio por Jorge Ramírez y de clausura por los al
 umnos dentro del ciclo de música experimental El Historial.\n\nFor mo
 re information visit https://www.grasshopper3d.com/events/hermosas-inc
 ertidumbres
DTSTART;TZID=America/Boise:20120301T180000
DTEND;TZID=America/Boise:20120329T220000
CATEGORIES:workshop
LOCATION:Universidad Iberoamericana
WEBSITE:http://codigoaierto.cc
URL:http://codigoaierto.cc
CONTACT:
ORGANIZER:Universidad Iberoamericana
ATTACH;FMTTYPE="image/jpeg":http://storage.ning.com/topology/rest/1.0/
 file/get/2764003069?profile=original
ATTENDEE;ROLE=REQ-PARTICIPANT;PARTSTAT=ACCEPTED;RSVP=TRUE;CN="Pablo Ko
 bayashi":https://www.grasshopper3d.com/profile/PabloKobayashi
ATTENDEE;ROLE=REQ-PARTICIPANT;PARTSTAT=ACCEPTED;RSVP=TRUE;CN="Alberto 
 Lara":https://www.grasshopper3d.com/profile/ablp
END:VEVENT
END:VCALENDAR
