BEGIN:VCALENDAR
PRODID:NingEventWidget-v1
VERSION:2.0
METHOD:PUBLISH
BEGIN:VTIMEZONE
TZID:America/Boise
X-LIC-LOCATION:America/Boise
BEGIN:DAYLIGHT
TZOFFSETFROM:-0700
TZOFFSETTO:-0600
TZNAME:MDT
DTSTART:19700308T020000
RRULE:FREQ=YEARLY;BYMONTH=3;BYDAY=2SU
END:DAYLIGHT
BEGIN:STANDARD
TZOFFSETFROM:-0600
TZOFFSETTO:-0700
TZNAME:MST
DTSTART:19701101T020000
RRULE:FREQ=YEARLY;BYMONTH=11;BYDAY=1SU
END:STANDARD
END:VTIMEZONE
BEGIN:VEVENT
UID:2985220:Event:905372
DTSTAMP:20260424T153321Z
SUMMARY:Hands-On Desktop Prototyping For Designers
DESCRIPTION:Learn about the fundamentals of 3D printing, the free tool
 s available to get started, and the materials and processes used to br
 ing your ideas out of the computer and into the world.\nAbout this Wor
 kshop:\nPowerful, affordable, and user-friendly 3D printing enables mi
 llions of creative individuals to design and develop the products of t
 omorrow. Producing a professional-grade prototype on your desktop has 
 become a realistic option for making and testing your ideas. Learn abo
 ut the differences between the various types of 3D Printing technology
  from Fused Deposition Modeling to Stereolithography and get hands-on 
 knowledge on how to turn your digital model into a physical and precis
 e prototype.\nAudience:\nInterior designers, architects, designers, re
 presentatives, and anyone who is interested in learning more about 3D 
 printing and how this disruptive technology is impacting design.\nAbou
 t the Instructor:\nRonnie Parsons is an architect and expert in the fi
 eld of generative design. As the co-founder of Mode Lab, a knowledge 
 platform for creative professionals, he combines his expertise in desi
 gn, technology, and education to help foster innovation across a dynam
 ic, ever-evolving design community.\n\nFor more information visit http
 s://www.grasshopper3d.com/events/hands-on-desktop-prototyping-for-desi
 gners
DTSTART;TZID=America/Boise:20131109T140000
DTEND;TZID=America/Boise:20131109T170000
CATEGORIES:workshop, training
LOCATION:Mode Lab
WEBSITE:http://lab.modecollective.nu/lab/hands-on-desktop-prototyping-
 for-designers-2/
URL:http://lab.modecollective.nu/lab/hands-on-desktop-prototyping-for-
 designers-2/
CONTACT:3477880570
ORGANIZER;CN="GIL AKOS":https://www.grasshopper3d.com/profile/GILAKOS
ATTACH;FMTTYPE="image/jpeg":http://storage.ning.com/topology/rest/1.0/
 file/get/2828348666?profile=original
ATTENDEE;ROLE=REQ-PARTICIPANT;PARTSTAT=ACCEPTED;RSVP=TRUE;CN="GIL AKOS
 ":https://www.grasshopper3d.com/profile/GILAKOS
END:VEVENT
END:VCALENDAR
