BEGIN:VCALENDAR
PRODID:NingEventWidget-v1
VERSION:2.0
METHOD:PUBLISH
BEGIN:VTIMEZONE
TZID:America/Boise
X-LIC-LOCATION:America/Boise
BEGIN:DAYLIGHT
TZOFFSETFROM:-0700
TZOFFSETTO:-0600
TZNAME:MDT
DTSTART:19700308T020000
RRULE:FREQ=YEARLY;BYMONTH=3;BYDAY=2SU
END:DAYLIGHT
BEGIN:STANDARD
TZOFFSETFROM:-0600
TZOFFSETTO:-0700
TZNAME:MST
DTSTART:19701101T020000
RRULE:FREQ=YEARLY;BYMONTH=11;BYDAY=1SU
END:STANDARD
END:VTIMEZONE
BEGIN:VEVENT
UID:2985220:Event:398371
DTSTAMP:20260419T225213Z
SUMMARY:GRASSNOCEROS
DESCRIPTION:Rhinoceros es una herramienta de modelado 3d que permite f
 Ã¡cil, Ã¡gil y precisamente el desarrollo de proyectos de DiseÃ±o, Arq
 uitectura e IngenierÃ­a, a casi una quinta parte del precio de los pro
 gramas comerciales. Rhino permite comunicar ideas en el desarrollo, in
 vestigaciÃ³n, manufactura, marketing y proceso de construcciÃ³n de un 
 producto o espacio, antes de ser construido y genera documentos constr
 uctivos para la elaboraciÃ³n de los mismos. Permite exportar los archi
 vos a las extensiones comerciales mÃ¡s utilizadas en la industria como
  DXF, DWG, Illustrator y 3ds entre muchos otros. La gran cantidad de e
 xtensiones suplen las necesidades especificas para arquitectura, diseÃ
 ±o de producto, calzado, joyerÃ­a, ingenierÃ­a, manufactura y visualiz
 aciÃ³n fotorealista.Â \nÂ \nGrasshopper es una extensiÃ³n de Rhino que
  permite el modelado paramÃ©trico sin tener conocimientos de programac
 iÃ³n o matemÃ¡ticas avanzadas,Â  facilitando el desarrollo de modelos 
 de alta complejidad a partir de formas simples o complejas.\nDimension
 \nÂ \nDel 12 Septiembre al 14 de Octubre de 2011\nSesiones: 15 de 3 hr
 sÂ \nDuraciÃ³n: 45 horas\nDÃ­as: lunes, miÃ©rcoles y viernes\nHorario:
  de 19:00 hrs a 22:00 hrs\nÂ \nCosto:\nPago Ãºnico: $4,000 (antes del 
 inicio del taller)\nPago fraccionado: $4,500\nPrimer pago: $2,000 para
  reservar tu lugar.Â \nSegundo pago:Â  $1,250 - 26 de septiembre\nTerc
 er pago: $1,250 - 3 de octubre\nÂ \nEs necesario traer Laptop Propia\n
 En caso de requerir factura se cobrarÃ¡ el i.v.a.\nÂ \n\nFor more info
 rmation visit https://www.grasshopper3d.com/events/grassnoceros
DTSTART;TZID=America/Boise:20110912T190000
DTEND;TZID=America/Boise:20111014T220000
CATEGORIES:curso, taller, intensivo
LOCATION:DimensiÃ³n
WEBSITE:http://dimensiontallerdigital.com
URL:http://dimensiontallerdigital.com
CONTACT:5554341485
ORGANIZER;CN="Javier M Gaxiola":https://www.grasshopper3d.com/profile/
 JavierMGaxiola
ATTACH;FMTTYPE="image/jpeg":http://storage.ning.com/topology/rest/1.0/
 file/get/2827820850?profile=original
ATTENDEE;ROLE=REQ-PARTICIPANT;PARTSTAT=ACCEPTED;RSVP=TRUE;CN="Javier M
  Gaxiola":https://www.grasshopper3d.com/profile/JavierMGaxiola
END:VEVENT
END:VCALENDAR
