BEGIN:VCALENDAR
PRODID:NingEventWidget-v1
VERSION:2.0
METHOD:PUBLISH
BEGIN:VTIMEZONE
TZID:America/Boise
X-LIC-LOCATION:America/Boise
BEGIN:DAYLIGHT
TZOFFSETFROM:-0700
TZOFFSETTO:-0600
TZNAME:MDT
DTSTART:19700308T020000
RRULE:FREQ=YEARLY;BYMONTH=3;BYDAY=2SU
END:DAYLIGHT
BEGIN:STANDARD
TZOFFSETFROM:-0600
TZOFFSETTO:-0700
TZNAME:MST
DTSTART:19701101T020000
RRULE:FREQ=YEARLY;BYMONTH=11;BYDAY=1SU
END:STANDARD
END:VTIMEZONE
BEGIN:VEVENT
UID:2985220:Event:214595
DTSTAMP:20260424T144158Z
SUMMARY:Grasshopper Workshops in San Francisco
DESCRIPTION:A series of three Grasshopper workshops in San Francisco s
 tarting this Saturday, April 9th. The fourth class will introduce Pyth
 on scripting in Rhino 5, by using a python module to read GIS data int
 o Rhino.\n\nFor more information visit https://www.grasshopper3d.com/e
 vents/grasshopper-workshops-in-san
DTSTART;TZID=America/Boise:20110406T000000
DTEND;TZID=America/Boise:20110507T235900
CATEGORIES:workshops
LOCATION:Stamen Design, San Francisco
WEBSITE:http://maps.google.com/maps?f=q&source=s_q&hl=en&geocode=&q=St
 amen+Design,+Mission+Street,+San+Francisco,+CA&aq=0&sll=37.0625,-95.67
 7068&sspn=45.063105,91.582031&ie=UTF8&hq=Stamen+Design,&hnear=Mission+
 St,+San+Francisco,+California&ll=37.76678,-122.420139&spn=0.042474,0.0
 89436&z=14&iwloc=A
URL:http://maps.google.com/maps?f=q&source=s_q&hl=en&geocode=&q=Stamen
 +Design,+Mission+Street,+San+Francisco,+CA&aq=0&sll=37.0625,-95.677068
 &sspn=45.063105,91.582031&ie=UTF8&hq=Stamen+Design,&hnear=Mission+St,+
 San+Francisco,+California&ll=37.76678,-122.420139&spn=0.042474,0.08943
 6&z=14&iwloc=A
CONTACT:
ORGANIZER;CN="Benjamin Golder":https://www.grasshopper3d.com/profile/B
 enjaminGolder
ATTACH;FMTTYPE="image/jpeg":http://storage.ning.com/topology/rest/1.0/
 file/get/2708655416?profile=original
ATTENDEE;ROLE=REQ-PARTICIPANT;PARTSTAT=ACCEPTED;RSVP=TRUE;CN="Benjamin
  Golder":https://www.grasshopper3d.com/profile/BenjaminGolder
END:VEVENT
END:VCALENDAR
