BEGIN:VCALENDAR
PRODID:NingEventWidget-v1
VERSION:2.0
METHOD:PUBLISH
BEGIN:VTIMEZONE
TZID:America/Boise
X-LIC-LOCATION:America/Boise
BEGIN:DAYLIGHT
TZOFFSETFROM:-0700
TZOFFSETTO:-0600
TZNAME:MDT
DTSTART:19700308T020000
RRULE:FREQ=YEARLY;BYMONTH=3;BYDAY=2SU
END:DAYLIGHT
BEGIN:STANDARD
TZOFFSETFROM:-0600
TZOFFSETTO:-0700
TZNAME:MST
DTSTART:19701101T020000
RRULE:FREQ=YEARLY;BYMONTH=11;BYDAY=1SU
END:STANDARD
END:VTIMEZONE
BEGIN:VEVENT
UID:2985220:Event:884781
DTSTAMP:20260419T111915Z
SUMMARY:Grasshopper Workshop | Tehran, Iran
DESCRIPTION:kENAAR Studio, located in Tehran, Iran, has planned a set 
 of Digital Design workshops in 3 levels, the first level of which is t
 he primitive level. During this level the participants will learn how 
 to parametrically model with Grasshopper. The workshop is a 3-day-full
 -time one.\nDuring the 2 next levels, which will be held sometime in t
 he future, the focus of the workshop will be shifted to special usage 
 of the plugin in design phase and digital fabrication.\n\nFor Registra
 tion click HERE!\nFor visiting a visual review of the previous worksh
 op click HERE! \n\nFor more information visit https://www.grasshopper
 3d.com/events/grasshopper-workshop-tehran-iran
DTSTART;TZID=America/Boise:20130717T090000
DTEND;TZID=America/Boise:20130719T190000
CATEGORIES:grasshopper, primitive, workshop
LOCATION:Saman Complex, Saman st. South Shiraz st. Mollasadra st. Vana
 k
WEBSITE:http://www.kenaarstudio.com
URL:http://www.kenaarstudio.com
CONTACT:+98 912 607 26 54
ORGANIZER:Mehrad Mahnia, Khashayar Bakhtiari
ATTACH;FMTTYPE="image/jpeg":http://storage.ning.com/topology/rest/1.0/
 file/get/2828325968?profile=original
ATTENDEE;ROLE=REQ-PARTICIPANT;PARTSTAT=ACCEPTED;RSVP=TRUE;CN="Mehrad M
 ahnia":https://www.grasshopper3d.com/profile/MehradMahnia
END:VEVENT
END:VCALENDAR
