BEGIN:VCALENDAR
PRODID:NingEventWidget-v1
VERSION:2.0
METHOD:PUBLISH
BEGIN:VTIMEZONE
TZID:America/Boise
X-LIC-LOCATION:America/Boise
BEGIN:DAYLIGHT
TZOFFSETFROM:-0700
TZOFFSETTO:-0600
TZNAME:MDT
DTSTART:19700308T020000
RRULE:FREQ=YEARLY;BYMONTH=3;BYDAY=2SU
END:DAYLIGHT
BEGIN:STANDARD
TZOFFSETFROM:-0600
TZOFFSETTO:-0700
TZNAME:MST
DTSTART:19701101T020000
RRULE:FREQ=YEARLY;BYMONTH=11;BYDAY=1SU
END:STANDARD
END:VTIMEZONE
BEGIN:VEVENT
UID:2985220:Event:1561939
DTSTAMP:20260423T074606Z
SUMMARY:Grasshopper Workshop Series in Los Angeles
DESCRIPTION:Join Somewhere Something in Downtown Los Angeles for Summ
 er 2016 workshop series. \nPhysical Computing with Firefly / August 2
 7\nGIS in Grasshopper / August 28\nGrasshopper Plugins / September10+1
 1\n\nFor more information visit https://www.grasshopper3d.com/events/g
 rasshopper-workshop-series-in-los-angeles
DTSTART;TZID=America/Boise:20160819T000000
DTEND;TZID=America/Boise:20160911T235900
CATEGORIES:"somewhere something", workshop, introduction, advanced, "d
 ata tree", firefly, gis, hoopsnake, galapagos, lunchbox, kangaroo, wea
 verbird, mosquito, "ladybug + honeybee", spiderweb, "los angeles", la
LOCATION:Los Angeles
WEBSITE:http://www.somewheresomething.com/workshops/
URL:http://www.somewheresomething.com/workshops/
CONTACT:323.382.8939
ORGANIZER;CN="Somewhere Something":https://www.grasshopper3d.com/profi
 le/SomewhereSomething
ATTACH;FMTTYPE="image/jpeg":http://storage.ning.com/topology/rest/1.0/
 file/get/2829422039?profile=original
ATTENDEE;ROLE=REQ-PARTICIPANT;PARTSTAT=ACCEPTED;RSVP=TRUE;CN="Somewher
 e Something":https://www.grasshopper3d.com/profile/SomewhereSomething
ATTENDEE;ROLE=REQ-PARTICIPANT;PARTSTAT=ACCEPTED;RSVP=TRUE;CN="Flora1.6
 18":https://www.grasshopper3d.com/profile/DanaLadd
ATTENDEE;ROLE=REQ-PARTICIPANT;PARTSTAT=TENTATIVE;RSVP=TRUE;CN="Kellan 
 Shanahan":https://www.grasshopper3d.com/profile/dodecahedron
END:VEVENT
END:VCALENDAR
