BEGIN:VCALENDAR
PRODID:NingEventWidget-v1
VERSION:2.0
METHOD:PUBLISH
BEGIN:VTIMEZONE
TZID:America/Boise
X-LIC-LOCATION:America/Boise
BEGIN:DAYLIGHT
TZOFFSETFROM:-0700
TZOFFSETTO:-0600
TZNAME:MDT
DTSTART:19700308T020000
RRULE:FREQ=YEARLY;BYMONTH=3;BYDAY=2SU
END:DAYLIGHT
BEGIN:STANDARD
TZOFFSETFROM:-0600
TZOFFSETTO:-0700
TZNAME:MST
DTSTART:19701101T020000
RRULE:FREQ=YEARLY;BYMONTH=11;BYDAY=1SU
END:STANDARD
END:VTIMEZONE
BEGIN:VEVENT
UID:2985220:Event:1068345
DTSTAMP:20260420T073711Z
SUMMARY:Grasshopper Workshop! Rosario - Buenos Aires
DESCRIPTION:http://chidostudio.com/2014/05/05/workshop-rosario-buenos-
 aires/\n \nReferencias:\nAlcances Workshops Anteriores: http://issuu
 .com/chidostudiodiseno/docs/ch_workshop_infoChido Studio: http://vime
 o.com/34300895\nFB: https://www.facebook.com/ChidoStudio\nFB: https:/
 /www.facebook.com/WEDOTdesign\n \nDetalles:\nInstructores:\nArturo de
  La Fuente (Chido Studio Argentina)\nEliana Monaco (Chido Studio Argen
 tina)\nLuis de La Parra (Chido Studio Mexico)\n \nWS ROSARIO\nLugar:\
 nDOSCASAS\nROSARIO:   Sarmiento 1232 Planta Alta (2000 Rosario)\nFec
 has:\nViernes 16 de Mayo 2014 – 11:00 – 19:00 hs\nSábado 17 de Ma
 yo 2014 – 11:00 – 19:00 hs\nDomingo 18 de Mayo 2014 – 11:00 – 
 19:00 hs.\n \nWS BUENOS AIRES\nLugar:\nGARAGELAB\nBsAs:  Roseti 1380
  CABA\nFechas:\nJueves 22 de Mayo 2014 – 18:00 – 21:00 hs\nViernes
  23 de Mayo 2014 – 18:00 – 21:00 hs\nSábado 24 de Mayo 2014 – 1
 1:00 – 20:00 hs.\nDomingo 25 de Mayo 2014 – 11:00 – 20:00 hs\nIm
 portante:\nTodos los niveles de experiencia son bienvenidos el único 
 requisito es tener un entendimiento básico de los programas CAD y una
  actitud positiva hacia el aprendizaje de dichas herramientas. Necesit
 as llevar una laptop, nosotros te instalamos los programas de prueba.\
 nSi planeas venir de fuera de la ciudad avísanos y te pondremos en co
 ntacto con otras personas que también vayan a hacerlo para en caso de
  desearlo puedan compartir su lugar de estancia.\nAl participar en el 
 workshop obtienes el 50 % de descuento en la licencia educacional Rhin
 oceros por medio de Rhino Chile.\n \nCOSTOS:\nProfesionales:   $1
 600\nEstudiantes:      $1400\nSi ya realizaste algún Workshop de
  Chidostudio tenes un 20% descuento en esta inscripción.\nSi venis en
  grupo con 2 amigos más cada uno tiene un %20 de descuento.\n \nProc
 eso de Inscripción:\nEl participante deberá un mail a bsas@chidostu
 dio.com donde se le enviará el procedimiento y medios de pago.\nEl d
 epósito mínimo para reservar la matrícula es del 50% el resto deber
 á ser cubierto el día del evento.\nUna vez que el depósito se haya 
 llevado a cabo el participante deberá enviar a este correobsas@chidos
 tudio.com  los siguientes datos:\n \nNombre completo\nEmail\nTeléf
 ono\nInstitución educativa u Oficina\nArchivo adjunto del recibo del 
 depósito bancario\nEn cuanto recibamos la información immediatamente
  nos pondremos en contacto para especificar los pasos a seguir.\n \nC
 ontacto:\nArturo de La Fuente\nbsas@chidostudio.com\nTel: (+54) 11-572
 68799\n \n\nFor more information visit https://www.grasshopper3d.com/
 events/grasshopper-workshop-rosario-buenos-aires
DTSTART;TZID=America/Boise:20140516T090000
DTEND;TZID=America/Boise:20140525T210000
CATEGORIES:workshop
LOCATION:Rosario - Buenos Aires
WEBSITE:
URL:
CONTACT:
ORGANIZER;CN="Arturo De La Fuente":https://www.grasshopper3d.com/profi
 le/ArturodelaFuente
ATTACH;FMTTYPE="image/jpeg":http://storage.ning.com/topology/rest/1.0/
 file/get/2678735473?profile=original
ATTENDEE;ROLE=REQ-PARTICIPANT;PARTSTAT=ACCEPTED;RSVP=TRUE;CN="Arturo D
 e La Fuente":https://www.grasshopper3d.com/profile/ArturodelaFuente
END:VEVENT
END:VCALENDAR
