BEGIN:VCALENDAR
PRODID:NingEventWidget-v1
VERSION:2.0
METHOD:PUBLISH
BEGIN:VTIMEZONE
TZID:America/Boise
X-LIC-LOCATION:America/Boise
BEGIN:DAYLIGHT
TZOFFSETFROM:-0700
TZOFFSETTO:-0600
TZNAME:MDT
DTSTART:19700308T020000
RRULE:FREQ=YEARLY;BYMONTH=3;BYDAY=2SU
END:DAYLIGHT
BEGIN:STANDARD
TZOFFSETFROM:-0600
TZOFFSETTO:-0700
TZNAME:MST
DTSTART:19701101T020000
RRULE:FREQ=YEARLY;BYMONTH=11;BYDAY=1SU
END:STANDARD
END:VTIMEZONE
BEGIN:VEVENT
UID:2985220:Event:14374
DTSTAMP:20260424T084529Z
SUMMARY:Grasshopper workshop at Yale University, Sept 17-19
DESCRIPTION:Join us for this three-day intensive Grasshopper workshop 
 led by Brian James, Gil Akos and Ronnie Parsons.\n\nThis workshop will
  introduce participants to beginner and intermediate parametic modelin
 g within Grasshopper for Rhinoceros in close coordination with a 7-axi
 s Kuka Articulated Arm Robot. The Kuka represents the most contemporar
 y fabrication technology currently available, situating this workshop 
 at the forefront of fabrication processes within architecture. Emphasi
 s will be placed on an integrated workflow model which will incorporat
 e design criteria, analysis, and fabrication constraints as generative
  devices for the creation of architectural prototypes.\n\nCost:\n$395 
 - Professionals/Faculty\n$195 - Students\n\nDates/Time:\nThursday-Satu
 rday, September 17-19\n8:30am-5:00pm each day\n\nTo register, contact 
 Jody Mills or call (206) 634-4571.\n\nFor more information visit https
 ://www.grasshopper3d.com/events/grasshopper-workshop-at-yale
DTSTART;TZID=America/Boise:20090917T083000
DTEND;TZID=America/Boise:20090919T170000
CATEGORIES:workshop
LOCATION:Yale University, School of Architecture
WEBSITE:http://maps.google.com/maps?f=q&source=s_q&hl=en&geocode=&q=18
 0+York+St,+New+haven,+ct&sll=37.0625,-95.677068&sspn=46.409192,48.6914
 06&ie=UTF8&z=16&iwloc=A
URL:http://maps.google.com/maps?f=q&source=s_q&hl=en&geocode=&q=180+Yo
 rk+St,+New+haven,+ct&sll=37.0625,-95.677068&sspn=46.409192,48.691406&i
 e=UTF8&z=16&iwloc=A
CONTACT:(206) 634-4571
ORGANIZER;CN="Jody Mills":https://www.grasshopper3d.com/profile/JodyMi
 lls
ATTACH;FMTTYPE="image/jpeg":
ATTENDEE;ROLE=REQ-PARTICIPANT;PARTSTAT=ACCEPTED;RSVP=TRUE;CN="Jonathan
  Fertig":https://www.grasshopper3d.com/profile/JonathanFertig
ATTENDEE;ROLE=REQ-PARTICIPANT;PARTSTAT=ACCEPTED;RSVP=TRUE;CN="GIL AKOS
 ":https://www.grasshopper3d.com/profile/GILAKOS
ATTENDEE;ROLE=REQ-PARTICIPANT;PARTSTAT=ACCEPTED;RSVP=TRUE;CN="Jody Mil
 ls":https://www.grasshopper3d.com/profile/JodyMills
END:VEVENT
END:VCALENDAR
