BEGIN:VCALENDAR
PRODID:NingEventWidget-v1
VERSION:2.0
METHOD:PUBLISH
BEGIN:VTIMEZONE
TZID:America/Boise
X-LIC-LOCATION:America/Boise
BEGIN:DAYLIGHT
TZOFFSETFROM:-0700
TZOFFSETTO:-0600
TZNAME:MDT
DTSTART:19700308T020000
RRULE:FREQ=YEARLY;BYMONTH=3;BYDAY=2SU
END:DAYLIGHT
BEGIN:STANDARD
TZOFFSETFROM:-0600
TZOFFSETTO:-0700
TZNAME:MST
DTSTART:19701101T020000
RRULE:FREQ=YEARLY;BYMONTH=11;BYDAY=1SU
END:STANDARD
END:VTIMEZONE
BEGIN:VEVENT
UID:2985220:Event:1884861
DTSTAMP:20260423T103712Z
SUMMARY:Grasshopper Users Meeting V
DESCRIPTION:Let's meet at the next Grasshopper Users Meeting in Berlin
 !We are calling for presentation! Have you been working recently on ex
 citing projects that employes algorithms, generative, parametric desig
 n? Come and share with the community.More varia@parametric.support\n\n
 For more information visit https://www.grasshopper3d.com/events/grassh
 opper-users-meeting-v
DTSTART;TZID=America/Boise:20180228T190000
DTEND;TZID=America/Boise:20180228T200000
CATEGORIES:meetup
LOCATION:Berlin
WEBSITE:https://www.facebook.com/events/1823157214651278/
URL:https://www.facebook.com/events/1823157214651278/
CONTACT:
ORGANIZER;CN="Adrian Krezlik":https://www.grasshopper3d.com/profile/Ad
 rianKrezlik
ATTACH;FMTTYPE="image/jpeg":http://storage.ning.com/topology/rest/1.0/
 file/get/2829972956?profile=original
ATTENDEE;ROLE=REQ-PARTICIPANT;PARTSTAT=ACCEPTED;RSVP=TRUE;CN="Adrian K
 rezlik":https://www.grasshopper3d.com/profile/AdrianKrezlik
END:VEVENT
END:VCALENDAR
