BEGIN:VCALENDAR
PRODID:NingEventWidget-v1
VERSION:2.0
METHOD:PUBLISH
BEGIN:VTIMEZONE
TZID:America/Boise
X-LIC-LOCATION:America/Boise
BEGIN:DAYLIGHT
TZOFFSETFROM:-0700
TZOFFSETTO:-0600
TZNAME:MDT
DTSTART:19700308T020000
RRULE:FREQ=YEARLY;BYMONTH=3;BYDAY=2SU
END:DAYLIGHT
BEGIN:STANDARD
TZOFFSETFROM:-0600
TZOFFSETTO:-0700
TZNAME:MST
DTSTART:19701101T020000
RRULE:FREQ=YEARLY;BYMONTH=11;BYDAY=1SU
END:STANDARD
END:VTIMEZONE
BEGIN:VEVENT
UID:2985220:Event:1908618
DTSTAMP:20260423T211731Z
SUMMARY:Grasshopper User Meeting VI
DESCRIPTION:Parametric Support invites for the 5th Grasshopper Users M
 eeting in Berlin!  Berlin edition of GH Users Meeting integrates local
  creators interested in technological advancement in the field of arch
 itecture and design and to be a perpetual impulse to innovate, design,
  research, and question. An hour-long meeting host 3-4 presentation th
 at explores the cutting-edge technology and its application, shows new
  forms of digital fabrication and applications of new concepts to real
  life, often built, projects. So far we have been hosting architects, 
 engineers (environmental and structural), academics and digital artist
 s, freelancer and from large companies. If you have been recently work
 ing on exciting projects that employ algorithms, generative, parametri
 c design strategies please apply to varia@parametric.support  Come and
  share with the community, be a part of the movement.\n\nFor more info
 rmation visit https://www.grasshopper3d.com/events/grasshopper-user-me
 eting-vi
DTSTART;TZID=America/Boise:20180517T190000
DTEND;TZID=America/Boise:20180517T210000
CATEGORIES:grasshopper, user, meeting
LOCATION:UdK Room 336
WEBSITE:
URL:
CONTACT:
ORGANIZER:Parametric Support
ATTACH;FMTTYPE="image/jpeg":
ATTENDEE;ROLE=REQ-PARTICIPANT;PARTSTAT=ACCEPTED;RSVP=TRUE;CN="Christia
 n Schmidts":https://www.grasshopper3d.com/profile/ChristianSchmidts
ATTENDEE;ROLE=REQ-PARTICIPANT;PARTSTAT=ACCEPTED;RSVP=TRUE;CN="Mahmoud 
 Abdel Mohsen":https://www.grasshopper3d.com/profile/MahmoudAbdelMohsen
END:VEVENT
END:VCALENDAR
