BEGIN:VCALENDAR
PRODID:NingEventWidget-v1
VERSION:2.0
METHOD:PUBLISH
BEGIN:VTIMEZONE
TZID:America/Boise
X-LIC-LOCATION:America/Boise
BEGIN:DAYLIGHT
TZOFFSETFROM:-0700
TZOFFSETTO:-0600
TZNAME:MDT
DTSTART:19700308T020000
RRULE:FREQ=YEARLY;BYMONTH=3;BYDAY=2SU
END:DAYLIGHT
BEGIN:STANDARD
TZOFFSETFROM:-0600
TZOFFSETTO:-0700
TZNAME:MST
DTSTART:19701101T020000
RRULE:FREQ=YEARLY;BYMONTH=11;BYDAY=1SU
END:STANDARD
END:VTIMEZONE
BEGIN:VEVENT
UID:2985220:Event:1669049
DTSTAMP:20260421T052702Z
SUMMARY:Grasshopper User Berlin
DESCRIPTION:The first meeting of Berlin parametric community is going 
 to happen in FabLab Berlin.  The program will be released soon.  Come 
 and join us.Please RSVP.  Adrian and Chris\n\nFor more information vis
 it https://www.grasshopper3d.com/events/grasshopper-user-berlin
DTSTART;TZID=America/Boise:20170120T180000
DTEND;TZID=America/Boise:20170120T200000
CATEGORIES:meeting
LOCATION:Fab Lab Berlin
WEBSITE:https://www.facebook.com/events/1361826793868062/
URL:https://www.facebook.com/events/1361826793868062/
CONTACT:
ORGANIZER;CN="Adrian Krezlik":https://www.grasshopper3d.com/profile/Ad
 rianKrezlik
ATTACH;FMTTYPE="image/jpeg":http://storage.ning.com/topology/rest/1.0/
 file/get/2769228496?profile=original
ATTENDEE;ROLE=REQ-PARTICIPANT;PARTSTAT=ACCEPTED;RSVP=TRUE;CN="Vasia Ka
 imenaki":https://www.grasshopper3d.com/profile/VasiaKaimenaki
ATTENDEE;ROLE=REQ-PARTICIPANT;PARTSTAT=ACCEPTED;RSVP=TRUE;CN="IL saf":
 https://www.grasshopper3d.com/profile/ILsaf
ATTENDEE;ROLE=REQ-PARTICIPANT;PARTSTAT=ACCEPTED;RSVP=TRUE;CN=FrankS:ht
 tps://www.grasshopper3d.com/profile/FrankS
ATTENDEE;ROLE=REQ-PARTICIPANT;PARTSTAT=ACCEPTED;RSVP=TRUE;CN=Elmar:htt
 ps://www.grasshopper3d.com/profile/TomThomsen
ATTENDEE;ROLE=REQ-PARTICIPANT;PARTSTAT=ACCEPTED;RSVP=TRUE;CN="Felix E.
  Klee":https://www.grasshopper3d.com/profile/feklee
ATTENDEE;ROLE=REQ-PARTICIPANT;PARTSTAT=ACCEPTED;RSVP=TRUE;CN=Rafael:ht
 tps://www.grasshopper3d.com/profile/Rafael297
ATTENDEE;ROLE=REQ-PARTICIPANT;PARTSTAT=ACCEPTED;RSVP=TRUE;CN="Christia
 n Schmidts":https://www.grasshopper3d.com/profile/ChristianSchmidts
ATTENDEE;ROLE=REQ-PARTICIPANT;PARTSTAT=ACCEPTED;RSVP=TRUE;CN="Patrick 
 Bedarf":https://www.grasshopper3d.com/profile/angine
ATTENDEE;ROLE=REQ-PARTICIPANT;PARTSTAT=ACCEPTED;RSVP=TRUE;CN="Anastasi
 a V":https://www.grasshopper3d.com/profile/AnastasiaV
ATTENDEE;ROLE=REQ-PARTICIPANT;PARTSTAT=ACCEPTED;RSVP=TRUE;CN=Peter:htt
 ps://www.grasshopper3d.com/profile/Peter886
ATTENDEE;ROLE=REQ-PARTICIPANT;PARTSTAT=ACCEPTED;RSVP=TRUE;CN=Mazze:htt
 ps://www.grasshopper3d.com/profile/Mazze
ATTENDEE;ROLE=REQ-PARTICIPANT;PARTSTAT=ACCEPTED;RSVP=TRUE;CN="Adrian K
 rezlik":https://www.grasshopper3d.com/profile/AdrianKrezlik
ATTENDEE;ROLE=REQ-PARTICIPANT;PARTSTAT=TENTATIVE;RSVP=TRUE;CN=ao:https
 ://www.grasshopper3d.com/profile/ao228
ATTENDEE;ROLE=REQ-PARTICIPANT;PARTSTAT=TENTATIVE;RSVP=TRUE;CN=Stevz:ht
 tps://www.grasshopper3d.com/profile/Stevz
ATTENDEE;ROLE=REQ-PARTICIPANT;PARTSTAT=TENTATIVE;RSVP=TRUE;CN="to]":ht
 tps://www.grasshopper3d.com/profile/to
ATTENDEE;ROLE=REQ-PARTICIPANT;PARTSTAT=TENTATIVE;RSVP=TRUE;CN="ghaith 
 Tish":https://www.grasshopper3d.com/profile/ghaithTish
END:VEVENT
END:VCALENDAR
