BEGIN:VCALENDAR
PRODID:NingEventWidget-v1
VERSION:2.0
METHOD:PUBLISH
BEGIN:VTIMEZONE
TZID:America/Boise
X-LIC-LOCATION:America/Boise
BEGIN:DAYLIGHT
TZOFFSETFROM:-0700
TZOFFSETTO:-0600
TZNAME:MDT
DTSTART:19700308T020000
RRULE:FREQ=YEARLY;BYMONTH=3;BYDAY=2SU
END:DAYLIGHT
BEGIN:STANDARD
TZOFFSETFROM:-0600
TZOFFSETTO:-0700
TZNAME:MST
DTSTART:19701101T020000
RRULE:FREQ=YEARLY;BYMONTH=11;BYDAY=1SU
END:STANDARD
END:VTIMEZONE
BEGIN:VEVENT
UID:2985220:Event:992972
DTSTAMP:20260424T140645Z
SUMMARY:Grasshopper Training – Parametrisches Modellieren mit Grassh
 opper3d für Rhinoceros3d – Stuttgart
DESCRIPTION:Grasshopper3d ist ein Plug-In für das CAD-Programm Rhinoc
 eros, welches ermöglicht 3D Modelle parametrisch aufzubauen.\nDer Kur
 s Grasshopper I vermittelt folgende Kenntnisse:\n\nKennenlernen der Be
 nutzeroberfläche des Grasshopper Programms\nFunktionsprinzip eines gr
 afischen Algorithmus-Editors (Datenfluss)\nUnterscheidung von Paramete
 rn (Datentypen) und Komponenten (Datenverarbeitung)\nErzeugung, Bearbe
 itung und Analyse von Geometrie-Typen: Punkte, Vektoren, Linien, Kurve
 n, Flächen (surfaces, brep) und Netze (meshes)\nStrukturierung der Da
 ten anhand von Listen und Bäumen\nunterschiedliche Verknüpfungsmögl
 ichkeiten von Parametern (data matching)\npraxisnahe Grundlagen der Ge
 ometrie und Vektorrechnung für generatives Design\neffizienter Aufbau
  von parametrischen Modellen anhand Übungsaufgaben\nAuszug von Daten 
 aus Modellen für die Fertigung; Daten aus Tabellen (Excel, CSV) impor
 tieren, exportieren\nEinsatz von benutzerdefinierten Komponenten (cust
 om components)\n\nVorkenntnisse: Rhinoceros3d Benutzeroberfläche der 
 Software: Englisch Unterrichtssprache: Deutsch, auf Wunsch auch Englis
 ch\n \nDetails und Anmeldung:\nwww.vhs-stuttgart.de\n\nDieser Kurs wi
 rd in Kooperation mit ifBau gGmbH und VHS Stuttgart angeboten, und wir
 d von ifBau als Fortbildung für Mitglieder der Architektenkammer BW 
 anerkannt.\n \nTrainer: Peter Mehrtens\nKursdauer: 3 Tage / 8 Stunden
  pro Tag\nFreitag, 24.01.2014, 09:00-17:00 Uhr Samstag, 25.01.2014, 09
 :00-17:00 Uhr Sonntag, 26.01.2014, 09:00-17:00 Uhr Ort: VHS Stuttgart,
  Fritz-Elsas-Str. 46/48\n\nTeilnahmegebühr: 510,00 € Teilnehmerzahl
 : 4-10 Personen\n \n\nFor more information visit https://www.grasshop
 per3d.com/events/grasshopper-training-parametrisches-modellieren-mit-g
 rasshopper-2
DTSTART;TZID=America/Boise:20140124T090000
DTEND;TZID=America/Boise:20140126T170000
CATEGORIES:classroom, course
LOCATION:VHS Stuttgart, Stuttgart, Deutschland
WEBSITE:http://vhs-stuttgart.de/kurssuche/?kathaupt=11&knr=132-96930K&
 kursname=14114+Grasshopper+-+Modellieren+m+Rhinoceros3D
URL:http://vhs-stuttgart.de/kurssuche/?kathaupt=11&knr=132-96930K&kurs
 name=14114+Grasshopper+-+Modellieren+m+Rhinoceros3D
CONTACT:+49 177 3407785
ORGANIZER:Volkshochschule Stuttgart + ifBau;   Peter Mehrtens
ATTACH;FMTTYPE="image/jpeg":http://storage.ning.com/topology/rest/1.0/
 file/get/2828047434?profile=original
ATTENDEE;ROLE=REQ-PARTICIPANT;PARTSTAT=ACCEPTED;RSVP=TRUE;CN="Peter Me
 hrtens":https://www.grasshopper3d.com/profile/PeterMehrtens
END:VEVENT
END:VCALENDAR
