BEGIN:VCALENDAR
PRODID:NingEventWidget-v1
VERSION:2.0
METHOD:PUBLISH
BEGIN:VTIMEZONE
TZID:America/Boise
X-LIC-LOCATION:America/Boise
BEGIN:DAYLIGHT
TZOFFSETFROM:-0700
TZOFFSETTO:-0600
TZNAME:MDT
DTSTART:19700308T020000
RRULE:FREQ=YEARLY;BYMONTH=3;BYDAY=2SU
END:DAYLIGHT
BEGIN:STANDARD
TZOFFSETFROM:-0600
TZOFFSETTO:-0700
TZNAME:MST
DTSTART:19701101T020000
RRULE:FREQ=YEARLY;BYMONTH=11;BYDAY=1SU
END:STANDARD
END:VTIMEZONE
BEGIN:VEVENT
UID:2985220:Event:623125
DTSTAMP:20260423T230343Z
SUMMARY:Grasshopper StartUP
DESCRIPTION:more info: http://mcarchitetture.blogspot.it/p/rhino-plug
 in.html\nIn sintesiIl corso si rivolge a persone che hanno una conosce
 nza base di Rhinoceros. Partendo dalle basi del software sarà possibi
 le affrontare il tema della modellazione parametrica con Grasshopper. 
 Questa plug-in di Rhino consente di progettare, confrontandosi con un 
 contesto evolutivo, attraverso la comprensione e l'utilizzo di paramet
 ri e componenti che influenzano la rappresentazione e la rendono dinam
 ica componendo algoritmi. Nel corso verranno introdotte le nozioni bas
 e di Grasshopper approfondendo le metodologie della progettazione para
 metrica e le tecniche di modellazione algoritmica per la generazione d
 i forme complesse.Le informazioni teoriche saranno fornite in maniera 
 accelerata ma organica e contestuale agli argomenti elencati. Per mass
 imizzare i risultati, le lezioni saranno accompagnate da piccole eserc
 itazioni pratiche.Argomenti trattati:- Introduzione alla progettazione
  parametrica: teoria, esempi, casi studio- Grasshopper: concetti base,
  logica algoritmica, interfaccia grafica- Nozioni fondamentali: compon
 enti, connessioni, data flow- Funzioni matematiche e logiche, serie, g
 estione dei dati- Analisi e definizione di curve e superfici- Definizi
 one di griglie e pattern complessi- Trasformazioni geometriche, paneli
 ng- Attrattori, image sampler- Data tree: gestione di dati complessiSt
 rutturaIl corso ha una durata di 16 ore programmate nell'arco di 2 gio
 rnate con i seguenti orari: i giorni 28/07 e 29/07 dalle 10,00 alle 19
 ,00 con pausa pranzo di un'ora.DestinatariIl corso è rivolto a tutti 
 coloro che hanno buone conoscenze di Rhinoceros e  vogliono affrontar
 e i nuovi metodi di progettazione in maniera consapevole attraverso il
  linguaggio visual scripting proposto dal software Grasshopper.Prerequ
 isitiPer affrontare il corso è richiesta una conoscenza di base del s
 oftware Rhino attraverso esperienze teoriche e pratiche. I partecipan
 ti dovranno venire muniti di proprio laptop e con software Rhinoceros 
 5 o Rhinocero 4 perfettamente funzionanti.AttestatoAlla fine del corso
  verrà rilasciata l’attestato di partecipazione ad un corso qualifi
 cato McNeel valido per l’ottenimento di crediti formativi universita
 ri.LuogoLe lezioni si terranno presso lo studio il Pedone in Via Muggi
 a 33, 00195 ROMA\n\nFor more information visit https://www.grasshopper
 3d.com/events/grasshopper-startup
DTSTART;TZID=America/Boise:20120728T000000
DTEND;TZID=America/Boise:20120729T235900
CATEGORIES:corso, di, modellazione, parametrica
LOCATION:PatametricArt presso il Pedone
WEBSITE:http://mcarchitetture.blogspot.it/p/rhino-plugin.html
URL:http://mcarchitetture.blogspot.it/p/rhino-plugin.html
CONTACT:3403476330
ORGANIZER;CN="Michele Calvano":https://www.grasshopper3d.com/profile/M
 icheleCalvano
ATTACH;FMTTYPE="image/jpeg":http://storage.ning.com/topology/rest/1.0/
 file/get/2828039874?profile=original
ATTENDEE;ROLE=REQ-PARTICIPANT;PARTSTAT=ACCEPTED;RSVP=TRUE;CN=tim410190
 :https://www.grasshopper3d.com/profile/tim410190
ATTENDEE;ROLE=REQ-PARTICIPANT;PARTSTAT=ACCEPTED;RSVP=TRUE;CN="Michele 
 Calvano":https://www.grasshopper3d.com/profile/MicheleCalvano
END:VEVENT
END:VCALENDAR
