BEGIN:VCALENDAR
PRODID:NingEventWidget-v1
VERSION:2.0
METHOD:PUBLISH
BEGIN:VTIMEZONE
TZID:America/Boise
X-LIC-LOCATION:America/Boise
BEGIN:DAYLIGHT
TZOFFSETFROM:-0700
TZOFFSETTO:-0600
TZNAME:MDT
DTSTART:19700308T020000
RRULE:FREQ=YEARLY;BYMONTH=3;BYDAY=2SU
END:DAYLIGHT
BEGIN:STANDARD
TZOFFSETFROM:-0600
TZOFFSETTO:-0700
TZNAME:MST
DTSTART:19701101T020000
RRULE:FREQ=YEARLY;BYMONTH=11;BYDAY=1SU
END:STANDARD
END:VTIMEZONE
BEGIN:VEVENT
UID:2985220:Event:1593204
DTSTAMP:20260423T023951Z
SUMMARY:Grasshopper Plugins workshop in Los Angeles
DESCRIPTION:This two-day workshop explores twelve popular Grasshopper 
 plugins for accomplishing various objectives. Plugins are custom funct
 ions created to extend the core functionality of Grasshopper. The lis
 t of plugins is the following: Centipede, FabTools, Galapagos, Hoo
 psnake, Horster, Human, Kangaroo Physics, Ladybug+Honeybee, Mosqu
 ito, GhPython, SpiderWeb, Weaverbird.\n\nFor more information visit
  https://www.grasshopper3d.com/events/grasshopper-plugins-workshop-in-
 los-angeles
DTSTART;TZID=America/Boise:20160910T100000
DTEND;TZID=America/Boise:20160911T160000
CATEGORIES:workshop, "los angeles", "somewhere something"
LOCATION:Los Angeles
WEBSITE:http://www.somewheresomething.com/gh-plugins/
URL:http://www.somewheresomething.com/gh-plugins/
CONTACT:323.382.8939
ORGANIZER;CN="Somewhere Something":https://www.grasshopper3d.com/profi
 le/SomewhereSomething
ATTACH;FMTTYPE="image/jpeg":http://storage.ning.com/topology/rest/1.0/
 file/get/2829477782?profile=original
ATTENDEE;ROLE=REQ-PARTICIPANT;PARTSTAT=ACCEPTED;RSVP=TRUE;CN="Somewher
 e Something":https://www.grasshopper3d.com/profile/SomewhereSomething
END:VEVENT
END:VCALENDAR
