BEGIN:VCALENDAR
PRODID:NingEventWidget-v1
VERSION:2.0
METHOD:PUBLISH
BEGIN:VTIMEZONE
TZID:America/Boise
X-LIC-LOCATION:America/Boise
BEGIN:DAYLIGHT
TZOFFSETFROM:-0700
TZOFFSETTO:-0600
TZNAME:MDT
DTSTART:19700308T020000
RRULE:FREQ=YEARLY;BYMONTH=3;BYDAY=2SU
END:DAYLIGHT
BEGIN:STANDARD
TZOFFSETFROM:-0600
TZOFFSETTO:-0700
TZNAME:MST
DTSTART:19701101T020000
RRULE:FREQ=YEARLY;BYMONTH=11;BYDAY=1SU
END:STANDARD
END:VTIMEZONE
BEGIN:VEVENT
UID:2985220:Event:184514
DTSTAMP:20260422T104554Z
SUMMARY:Grasshopper on Stage - Now in Munich!
DESCRIPTION:Now German debut performance of \"Überleben ein Handlun
 gsreisenden / Survival of a Salesman\" with\nits Grasshopper stage des
 ign:\nMarch 23./24./25./26.2011 at i-camp, 8.30pm\n \nFurther dates 
 at Garage X, Vienna:\nMarch 18./19. & April 01./02.2011 at 8.00pm\n\nF
 or more information visit https://www.grasshopper3d.com/events/grassho
 pper-on-stage-now-in
DTSTART;TZID=America/Boise:20110323T203000
DTEND;TZID=America/Boise:20110326T203000
CATEGORIES:theater
LOCATION:i-camp
WEBSITE:http://www.i-camp-muenchen.de
URL:http://www.i-camp-muenchen.de
CONTACT:+49 89 - 650000
ORGANIZER;CN=michaeldrobnik:https://www.grasshopper3d.com/profile/mich
 aeldrobnik
ATTACH;FMTTYPE="image/jpeg":http://storage.ning.com/topology/rest/1.0/
 file/get/2827772840?profile=original
ATTENDEE;ROLE=REQ-PARTICIPANT;PARTSTAT=ACCEPTED;RSVP=TRUE;CN=michaeldr
 obnik:https://www.grasshopper3d.com/profile/michaeldrobnik
END:VEVENT
END:VCALENDAR
